BEGIN:VCALENDAR
VERSION:2.0
PRODID:-//KRTN Enchanted Air Radio - ECPv5.16.4.1//NONSGML v1.0//EN
CALSCALE:GREGORIAN
METHOD:PUBLISH
X-WR-CALNAME:KRTN Enchanted Air Radio
X-ORIGINAL-URL:https://krtnradio.com/wp
X-WR-CALDESC:Events for KRTN Enchanted Air Radio
BEGIN:VTIMEZONE
TZID:America/Denver
BEGIN:DAYLIGHT
TZOFFSETFROM:-0700
TZOFFSETTO:-0600
TZNAME:MDT
DTSTART:20200308T090000
END:DAYLIGHT
BEGIN:STANDARD
TZOFFSETFROM:-0600
TZOFFSETTO:-0700
TZNAME:MST
DTSTART:20201101T080000
END:STANDARD
END:VTIMEZONE
BEGIN:VEVENT
DTSTART;TZID=America/Denver:20200924T100000
DTEND;TZID=America/Denver:20200924T100000
DTSTAMP:20260424T102410
CREATED:20200914T204325Z
LAST-MODIFIED:20200914T204325Z
UID:67040-1600941600-1600941600@krtnradio.com
SUMMARY:Yoga (Hybrid) Mt. Carmel Wellness & Community Center
DESCRIPTION:Join us for Yoga class on Tuesdays and Thursdays at 10:00 am.\nYou can either log on to Zoom or join us in-person.\nRegister at the link below:\nhttps://us02web.zoom.us/meeting/register/tZ0td-yprD4qGtU9G1xbMbIMsVvj8Q7miyrt\nCall 719-845-4894 with any questions.
URL:https://krtnradio.com/wp/event/yoga-hybrid-mt-carmel-wellness-community-center-4/
CATEGORIES:Meetings
ATTACH;FMTTYPE=image/jpeg:https://krtnradio.com/wp/wp-content/uploads/2020/09/Yoga-Hybrid-Class-Mt-Carmel.jpg
END:VEVENT
END:VCALENDAR