BEGIN:VCALENDAR
VERSION:2.0
PRODID:-//KRTN Enchanted Air Radio - ECPv5.16.4.1//NONSGML v1.0//EN
CALSCALE:GREGORIAN
METHOD:PUBLISH
X-WR-CALNAME:KRTN Enchanted Air Radio
X-ORIGINAL-URL:https://krtnradio.com/wp
X-WR-CALDESC:Events for KRTN Enchanted Air Radio
BEGIN:VTIMEZONE
TZID:America/Denver
BEGIN:DAYLIGHT
TZOFFSETFROM:-0700
TZOFFSETTO:-0600
TZNAME:MDT
DTSTART:20200308T090000
END:DAYLIGHT
BEGIN:STANDARD
TZOFFSETFROM:-0600
TZOFFSETTO:-0700
TZNAME:MST
DTSTART:20201101T080000
END:STANDARD
END:VTIMEZONE
BEGIN:VEVENT
DTSTART;TZID=America/Denver:20200513T170000
DTEND;TZID=America/Denver:20200513T170000
DTSTAMP:20260425T105945
CREATED:20191224T202800Z
LAST-MODIFIED:20191224T202800Z
UID:57535-1589389200-1589389200@krtnradio.com
SUMMARY:Wellness Wednesdays! ~ Mt. Carmel Wellness & Community Center
DESCRIPTION:WELLNESS WEDNESDAYS\nMT. CARMEL WELLNESS & COMMUNITY CENTER\n911 Robinson Ave\, Trinidad\, CO\n5:00 pm – 6:00 pm\nJanuary 8th – New Year’s Resolutions\nFebruary 12th – Nutrition for Weight Loss\nMarch 11th – Is Your Mind Full or Are You Mindful?\nApril 8th – Financial Planning\nMay 13th – How to Live Past 100\nCall 719-845-4894 to sign up!
URL:https://krtnradio.com/wp/event/wellness-wednesdays-mt-carmel-wellness-community-center-5/
LOCATION:Mt Carmel Health\, Wellness\, & Community Center\, Trinidad\, CO\, 81082\, United States
CATEGORIES:Meetings
ATTACH;FMTTYPE=image/jpeg:https://krtnradio.com/wp/wp-content/uploads/2019/12/Wellness-Wednesday-Mt-Carmel.jpg
END:VEVENT
END:VCALENDAR