BEGIN:VCALENDAR
VERSION:2.0
PRODID:-//KRTN Enchanted Air Radio - ECPv5.16.4.1//NONSGML v1.0//EN
CALSCALE:GREGORIAN
METHOD:PUBLISH
X-WR-CALNAME:KRTN Enchanted Air Radio
X-ORIGINAL-URL:https://krtnradio.com/wp
X-WR-CALDESC:Events for KRTN Enchanted Air Radio
BEGIN:VTIMEZONE
TZID:America/Denver
BEGIN:DAYLIGHT
TZOFFSETFROM:-0700
TZOFFSETTO:-0600
TZNAME:MDT
DTSTART:20200308T090000
END:DAYLIGHT
BEGIN:STANDARD
TZOFFSETFROM:-0600
TZOFFSETTO:-0700
TZNAME:MST
DTSTART:20201101T080000
END:STANDARD
END:VTIMEZONE
BEGIN:VEVENT
DTSTART;VALUE=DATE:20200926
DTEND;VALUE=DATE:20200927
DTSTAMP:20260424T121004
CREATED:20200914T164046Z
LAST-MODIFIED:20200914T164046Z
UID:66977-1601078400-1601164799@krtnradio.com
SUMMARY:Volunteers for Fishers Peak State Park Trail Building Needed
DESCRIPTION:You can be a volunteer and help build the new trails for Fishers Peak State Park! \nMark your calendars for Sept 21-22 & Sept 26-27
URL:https://krtnradio.com/wp/event/volunteers-for-fishers-peak-state-park-trail-building-needed-3/
CATEGORIES:Area Events
ATTACH;FMTTYPE=image/jpeg:https://krtnradio.com/wp/wp-content/uploads/2020/09/Colorado-State-Parks-and-Wildlife-Logo.jpg
END:VEVENT
END:VCALENDAR