BEGIN:VCALENDAR
VERSION:2.0
PRODID:-//KRTN Enchanted Air Radio - ECPv5.16.4.1//NONSGML v1.0//EN
CALSCALE:GREGORIAN
METHOD:PUBLISH
X-WR-CALNAME:KRTN Enchanted Air Radio
X-ORIGINAL-URL:https://krtnradio.com/wp
X-WR-CALDESC:Events for KRTN Enchanted Air Radio
BEGIN:VTIMEZONE
TZID:America/Denver
BEGIN:DAYLIGHT
TZOFFSETFROM:-0700
TZOFFSETTO:-0600
TZNAME:MDT
DTSTART:20200308T090000
END:DAYLIGHT
BEGIN:STANDARD
TZOFFSETFROM:-0600
TZOFFSETTO:-0700
TZNAME:MST
DTSTART:20201101T080000
END:STANDARD
END:VTIMEZONE
BEGIN:VEVENT
DTSTART;TZID=America/Denver:20200520T100000
DTEND;TZID=America/Denver:20200520T110000
DTSTAMP:20260425T105213
CREATED:20200512T210941Z
LAST-MODIFIED:20200512T210941Z
UID:62869-1589968800-1589972400@krtnradio.com
SUMMARY:Virtual Tai Chi Class ~ Mt. Carmel Wellness & Community Center
DESCRIPTION:Virtual Tai Chi Class (Zoom) \nMonday & Wednesday mornings\n10 am – 11 am \nhttps://www.facebook.com/events/260229451995510
URL:https://krtnradio.com/wp/event/virtual-tai-chi-class-mt-carmel-wellness-community-center-3/
CATEGORIES:Meetings
ATTACH;FMTTYPE=image/jpeg:https://krtnradio.com/wp/wp-content/uploads/2020/05/Virtual-Tai-Chi.jpg
END:VEVENT
END:VCALENDAR