BEGIN:VCALENDAR
VERSION:2.0
PRODID:-//KRTN Enchanted Air Radio - ECPv5.16.4.1//NONSGML v1.0//EN
CALSCALE:GREGORIAN
METHOD:PUBLISH
X-WR-CALNAME:KRTN Enchanted Air Radio
X-ORIGINAL-URL:https://krtnradio.com/wp
X-WR-CALDESC:Events for KRTN Enchanted Air Radio
BEGIN:VTIMEZONE
TZID:America/Denver
BEGIN:DAYLIGHT
TZOFFSETFROM:-0700
TZOFFSETTO:-0600
TZNAME:MDT
DTSTART:20200308T090000
END:DAYLIGHT
BEGIN:STANDARD
TZOFFSETFROM:-0600
TZOFFSETTO:-0700
TZNAME:MST
DTSTART:20201101T080000
END:STANDARD
END:VTIMEZONE
BEGIN:VEVENT
DTSTART;TZID=America/Denver:20200423T140000
DTEND;TZID=America/Denver:20200423T170000
DTSTAMP:20260425T152830
CREATED:20200421T174103Z
LAST-MODIFIED:20200421T174137Z
UID:62354-1587650400-1587661200@krtnradio.com
SUMMARY:Virtual Program - Hitler's Astrologer ~ Trinidad Carnegie Library
DESCRIPTION:Hitler’s Astrologer: Thursday afternoon\, April 23rd\, at 2:00. Click on this link to join the Zoom Meeting: https://us04web.zoom.us/j/9647345056\n\n\nWe hope you can join in on these two remote events. For more information see our Facebook page @TrinidadCarnegiePublicLibrary\, or visit the Events section of our website: carnegiepubliclibrary.org\n\n\n\n\n\n\n\n\n\nJoin our Cloud HD Video Meeting now\nZoom is the leader in modern enterprise video communications\, with an easy\, reliable cloud platform for video and audio conferencing\, chat\, and webinars across mobile\, desktop\, and room systems. Zoom Rooms is the original software-based conference room solution used around the world in board\, conference\, huddle\, and training rooms\, as well as executive offices and classrooms. Founded in 2011\, Zoom helps businesses and organizations bring their teams together in a frictionless environment to get more done. Zoom is a publicly traded company headquartered in San Jose\, CA.\nus04web.zoom.us\n\n\n\n\n\n\n\n\n\n\nTom Potter \nTeen/Adult Services Specialist \nTrinidad Carnegie Public Library \n719-846-6841 \ntom.potter@trinidad.co.gov
URL:https://krtnradio.com/wp/event/virtual-program-hitlers-astrologer-trinidad-carnegie-library/
CATEGORIES:Area Events
ATTACH;FMTTYPE=image/png:https://krtnradio.com/wp/wp-content/uploads/2020/04/Carnegie-Public-Library-Logo.png
END:VEVENT
END:VCALENDAR