BEGIN:VCALENDAR
VERSION:2.0
PRODID:-//KRTN Enchanted Air Radio - ECPv5.16.4.1//NONSGML v1.0//EN
CALSCALE:GREGORIAN
METHOD:PUBLISH
X-WR-CALNAME:KRTN Enchanted Air Radio
X-ORIGINAL-URL:https://krtnradio.com/wp
X-WR-CALDESC:Events for KRTN Enchanted Air Radio
BEGIN:VTIMEZONE
TZID:America/Denver
BEGIN:DAYLIGHT
TZOFFSETFROM:-0700
TZOFFSETTO:-0600
TZNAME:MDT
DTSTART:20200308T090000
END:DAYLIGHT
BEGIN:STANDARD
TZOFFSETFROM:-0600
TZOFFSETTO:-0700
TZNAME:MST
DTSTART:20201101T080000
END:STANDARD
END:VTIMEZONE
BEGIN:VEVENT
DTSTART;TZID=America/Denver:20200925T110000
DTEND;TZID=America/Denver:20200925T130000
DTSTAMP:20260424T102337
CREATED:20200914T210141Z
LAST-MODIFIED:20200914T210141Z
UID:67064-1601031600-1601038800@krtnradio.com
SUMMARY:Virtual Class: Chronic Pain Self Management Classes ~ Mt. Carmel Wellness & Community
DESCRIPTION:Chronic Pain Self-Management\nThis 7-week course helps participants identify and understand symptoms associated with chronic pain and offers techniques for best self-management practices including understanding their pain\, pacing and planning\, and how to communicate with family\, friends\, and medical practitioners for best outcomes and support.\nFacilitated by Dr. Ivory Raye\nRegister at the following link: https://us02web.zoom.us/meeting/register/tZUkdOGgqjIvG9XqlwZQcLfqd5WM8EUKRuRw
URL:https://krtnradio.com/wp/event/virtual-class-chronic-pain-self-management-classes-mt-carmel-wellness-community-2/
LOCATION:Mt Carmel Health\, Wellness\, & Community Center\, Trinidad\, CO\, 81082\, United States
CATEGORIES:Meetings
ATTACH;FMTTYPE=image/jpeg:https://krtnradio.com/wp/wp-content/uploads/2020/09/virtual-chronic-pain-self-management.jpg
END:VEVENT
END:VCALENDAR