BEGIN:VCALENDAR
VERSION:2.0
PRODID:-//KRTN Enchanted Air Radio - ECPv5.16.4.1//NONSGML v1.0//EN
CALSCALE:GREGORIAN
METHOD:PUBLISH
X-WR-CALNAME:KRTN Enchanted Air Radio
X-ORIGINAL-URL:https://krtnradio.com/wp
X-WR-CALDESC:Events for KRTN Enchanted Air Radio
BEGIN:VTIMEZONE
TZID:America/Denver
BEGIN:DAYLIGHT
TZOFFSETFROM:-0700
TZOFFSETTO:-0600
TZNAME:MDT
DTSTART:20240310T090000
END:DAYLIGHT
BEGIN:STANDARD
TZOFFSETFROM:-0600
TZOFFSETTO:-0700
TZNAME:MST
DTSTART:20241103T080000
END:STANDARD
END:VTIMEZONE
BEGIN:VEVENT
DTSTART;TZID=America/Denver:20240319T110000
DTEND;TZID=America/Denver:20240319T140000
DTSTAMP:20260424T003442
CREATED:20240312T193501Z
LAST-MODIFIED:20240312T193501Z
UID:89041-1710846000-1710856800@krtnradio.com
SUMMARY:UNM Pact Act Town Hall Presented NM VA Health Care System
DESCRIPTION:
URL:https://krtnradio.com/wp/event/unm-pact-act-town-hall-presented-nm-va-health-care-system/
CATEGORIES:Meetings
END:VEVENT
END:VCALENDAR