BEGIN:VCALENDAR
VERSION:2.0
PRODID:-//KRTN Enchanted Air Radio - ECPv5.16.4.1//NONSGML v1.0//EN
CALSCALE:GREGORIAN
METHOD:PUBLISH
X-WR-CALNAME:KRTN Enchanted Air Radio
X-ORIGINAL-URL:https://krtnradio.com/wp
X-WR-CALDESC:Events for KRTN Enchanted Air Radio
BEGIN:VTIMEZONE
TZID:America/Denver
BEGIN:DAYLIGHT
TZOFFSETFROM:-0700
TZOFFSETTO:-0600
TZNAME:MDT
DTSTART:20180311T090000
END:DAYLIGHT
BEGIN:STANDARD
TZOFFSETFROM:-0600
TZOFFSETTO:-0700
TZNAME:MST
DTSTART:20181104T080000
END:STANDARD
END:VTIMEZONE
BEGIN:VEVENT
DTSTART;TZID=America/Denver:20180924T100000
DTEND;TZID=America/Denver:20180924T100000
DTSTAMP:20260425T065635
CREATED:20180910T173302Z
LAST-MODIFIED:20180920T213917Z
UID:43071-1537783200-1537783200@krtnradio.com
SUMMARY:UMWA: ATTENTION ALL FORMER C.F. & I. EMPLOYEES
DESCRIPTION:If you worked for C.F. & I. during the years of 1969 thru 1983 you may be eligible for assistance.\nOn Monday September 24\, 2018 at 10:00 am at the Trinidad Community Center there is a very important meeting with officials from the Crane Fund. They will be answering questions and providing you with information about their program.\nIf you have any questions or need any additional information please call the UMWA at 719-846-2403
URL:https://krtnradio.com/wp/event/umwa-attention-all-former-c-f-i-employees/
LOCATION:Trinidad Community Center\, 1309 Beshoar Ave\, Trinidad\, CO\, 81082\, United States
CATEGORIES:Meetings
ATTACH;FMTTYPE=image/jpeg:https://krtnradio.com/wp/wp-content/uploads/2018/09/attentionplease.jpg
END:VEVENT
END:VCALENDAR