BEGIN:VCALENDAR
VERSION:2.0
PRODID:-//KRTN Enchanted Air Radio - ECPv5.16.4.1//NONSGML v1.0//EN
CALSCALE:GREGORIAN
METHOD:PUBLISH
X-WR-CALNAME:KRTN Enchanted Air Radio
X-ORIGINAL-URL:https://krtnradio.com/wp
X-WR-CALDESC:Events for KRTN Enchanted Air Radio
BEGIN:VTIMEZONE
TZID:America/Denver
BEGIN:DAYLIGHT
TZOFFSETFROM:-0700
TZOFFSETTO:-0600
TZNAME:MDT
DTSTART:20200308T090000
END:DAYLIGHT
BEGIN:STANDARD
TZOFFSETFROM:-0600
TZOFFSETTO:-0700
TZNAME:MST
DTSTART:20201101T080000
END:STANDARD
END:VTIMEZONE
BEGIN:VEVENT
DTSTART;TZID=America/Denver:20200324T110000
DTEND;TZID=America/Denver:20200324T110000
DTSTAMP:20260425T184051
CREATED:20200110T181132Z
LAST-MODIFIED:20200324T182345Z
UID:58205-1585047600-1585047600@krtnradio.com
SUMMARY:Canceled: Tuesdays Tots! ~ Carnegie Public Library
DESCRIPTION:A program for ages 1-3 yrs where we build literacy skills through singing\, reading\, playing and fun! Join us each 2nd and 4th Tuesday of the month for a different themed program. \nHealthy Food is this month’s theme!
URL:https://krtnradio.com/wp/event/tuesdays-tots-carnegie-public-library-6/
LOCATION:Carnegie Public Library of Trinidad\, 202 N. Animas\, Trinidad\, CO\, 81082\, United States
CATEGORIES:Meetings
ATTACH;FMTTYPE=image/jpeg:https://krtnradio.com/wp/wp-content/uploads/2018/10/TuesdayTotsLogo.jpg
END:VEVENT
END:VCALENDAR