BEGIN:VCALENDAR
VERSION:2.0
PRODID:-//KRTN Enchanted Air Radio - ECPv5.16.4.1//NONSGML v1.0//EN
CALSCALE:GREGORIAN
METHOD:PUBLISH
X-WR-CALNAME:KRTN Enchanted Air Radio
X-ORIGINAL-URL:https://krtnradio.com/wp
X-WR-CALDESC:Events for KRTN Enchanted Air Radio
BEGIN:VTIMEZONE
TZID:America/Denver
BEGIN:DAYLIGHT
TZOFFSETFROM:-0700
TZOFFSETTO:-0600
TZNAME:MDT
DTSTART:20250309T090000
END:DAYLIGHT
BEGIN:STANDARD
TZOFFSETFROM:-0600
TZOFFSETTO:-0700
TZNAME:MST
DTSTART:20251102T080000
END:STANDARD
END:VTIMEZONE
BEGIN:VEVENT
DTSTART;TZID=America/Denver:20250601T150000
DTEND;TZID=America/Denver:20250601T150000
DTSTAMP:20260424T033419
CREATED:20250319T174737Z
LAST-MODIFIED:20250319T174802Z
UID:94810-1748790000-1748790000@krtnradio.com
SUMMARY:Trinidad Triggers Home Opener Fiesta
DESCRIPTION:IMPORTANT DEADLINES\, GAMES\, CAMP DATES\, GROUP DATES & Season/Parking Pass information !\n�Sponsorship sales campaign wraps March 31-Be apart of the Excitement this season. Commit Today!\n�Host Families Sign Up Today!\n�Spring Training starts May 22-Only 32 prospects allowed this season. Interested Players need to contact the front office ASAP!\n�Group Space is at a Premium -Take your Business\, Nonprofit or Family out to the Ballpark and Let us Entertain You!!\n�Mondays are Little League Night – Teams featured on the Field with the Triggers are First Come\, First Served. Get on our Calendar Today!\n�Looking for: Field Talent\, Mascot Talent\, Scorekeepers\, Security & Gate Personnel\, Wait & Cocktail Staff.\n�Contact: Triggersoffice08@gmail.com\, or 719-859-1008——-———————————————————————�Trinidad Triggers Season Highlights�� brought to you by Phil Long Toyota�\nProspect PlazaLAUNDROMAT/STORAGE&MOTEL Spring Training Team Sneak Peak & Meet & GreetNew Triggers Manager Carlos Villarreal & Assistant Manager Randall Arms – May 27 & 28\nHome Opener Tequila’s Family Mexican Family Restaurant Fiesta Sunday June 1st!\nThe Old School House Venue & Reception Hall Snowcone fundraiser featuring Mini Triggers Cap Bowls All Season\nGagliardi’s Baseball Camps Start Monday\, June 210 camp dates only @ $10 per Day\, attend 5 to receive invitation to Swim Party @Hilton Garden Inn sponsored by Gagliardi’s 489 Restaurant.Go to www.trinidadtriggers.com Home page/Camp tab\nNew Image Health and Wellness Tuesday Ladies’ Night Kicks Off June 3\nThe Annual Blue Game with the Las Animas County First Responders & Trinidad Ambulance DistrictJune 15th\nTRIGGERS All-Team Reunion June 27 – 29th\nIndependence Day Celebration Triggers Game &City of Trinidad Fireworks Display | PatrioticUniforms Sponsored by Salapich Agency\, LLC\, Farm Bureau Insurance – Colorado\nDATES TO BE ANNOUNCED!!\nLas Animas County Veterans’ CouncilLas Animas County Department of Human ServicesHarry Sayre Senior CenterLas Animas County Rehabilitation CenterTrinidad Welcome Center\nTrinidad Correctional Facility Day\nDont Miss Out!!!!!!!\nGet your Triggers Season Pass that includes a Parking Pass to the Interior Lot\, all 29 Regular Season Home Season Games\, the Independence Day Celebration Game & City of Trinidad Colorado Fireworks Display\, & Access to Woodys Furniture Dugout ViP Seating and KCRT RadioHappy Hour Drink Specials & ComplimentaryMunchies from 5:30-6:30 Monday through Saturday\, and 2:30-3:30 on Fiesta Sundays! For $250 per person – payment plans available!\n\nPS : Sponsors Receive 2 Season Pass Packages with your Base Package Purchase of $600! \n\n\n\n\nTrinidad\, Colorado
URL:https://krtnradio.com/wp/event/trinidad-triggers-home-opener-fiesta/
CATEGORIES:Area Events
ATTACH;FMTTYPE=image/jpeg:https://krtnradio.com/wp/wp-content/uploads/2025/03/481451266_1305210703884572_8650931865150537658_n.jpg
END:VEVENT
END:VCALENDAR