BEGIN:VCALENDAR
VERSION:2.0
PRODID:-//KRTN Enchanted Air Radio - ECPv5.16.4.1//NONSGML v1.0//EN
CALSCALE:GREGORIAN
METHOD:PUBLISH
X-WR-CALNAME:KRTN Enchanted Air Radio
X-ORIGINAL-URL:https://krtnradio.com/wp
X-WR-CALDESC:Events for KRTN Enchanted Air Radio
BEGIN:VTIMEZONE
TZID:America/Denver
BEGIN:DAYLIGHT
TZOFFSETFROM:-0700
TZOFFSETTO:-0600
TZNAME:MDT
DTSTART:20260308T090000
END:DAYLIGHT
BEGIN:STANDARD
TZOFFSETFROM:-0600
TZOFFSETTO:-0700
TZNAME:MST
DTSTART:20261101T080000
END:STANDARD
END:VTIMEZONE
BEGIN:VEVENT
DTSTART;TZID=America/Denver:20260403T080000
DTEND;TZID=America/Denver:20260403T170000
DTSTAMP:20260423T174909
CREATED:20260403T192824Z
LAST-MODIFIED:20260403T192845Z
UID:100246-1775203200-1775235600@krtnradio.com
SUMMARY:Trinidad Co. Main Street LIVE Acoustic Eidolon
DESCRIPTION:Event by Main Street LIVE\n131 W Main St\, Trinidad\, CO\, United States\, Colorado 81082\nPublic · Anyone on or off Facebook\nAcoustic Eidolon\, an acclaimed duo of Colorado-based musicians\, comes to Main Street LIVE’s stage! Featuring classically trained cellist Hannah and innovative guitar-banjo fusion artist Joe\, Acoustic Eidolon offers a unique concert of gripping stories and riveting music bound to make you laugh\, cry\, and laugh again. They’ll steal the spotlight for one night only\, so don’t miss this exclusive concert! \nBuy Tickets here Purchase Tickets to Acoustic Eidolon at Main Street LIVE (April 21\, 2026 7:00pm) | TicketstotheCity.com
URL:https://krtnradio.com/wp/event/trinidad-co-main-street-live-acoustic-eidolon/
CATEGORIES:Area Events
ATTACH;FMTTYPE=image/jpeg:https://krtnradio.com/wp/wp-content/uploads/2026/04/660456176_1801811497839735_3349751413709918450_n.jpg
END:VEVENT
END:VCALENDAR