BEGIN:VCALENDAR
VERSION:2.0
PRODID:-//KRTN Enchanted Air Radio - ECPv5.16.4.1//NONSGML v1.0//EN
CALSCALE:GREGORIAN
METHOD:PUBLISH
X-WR-CALNAME:KRTN Enchanted Air Radio
X-ORIGINAL-URL:https://krtnradio.com/wp
X-WR-CALDESC:Events for KRTN Enchanted Air Radio
BEGIN:VTIMEZONE
TZID:America/Denver
BEGIN:DAYLIGHT
TZOFFSETFROM:-0700
TZOFFSETTO:-0600
TZNAME:MDT
DTSTART:20200308T090000
END:DAYLIGHT
BEGIN:STANDARD
TZOFFSETFROM:-0600
TZOFFSETTO:-0700
TZNAME:MST
DTSTART:20201101T080000
END:STANDARD
END:VTIMEZONE
BEGIN:VEVENT
DTSTART;TZID=America/Denver:20200626T080000
DTEND;TZID=America/Denver:20200626T170000
DTSTAMP:20260425T112021
CREATED:20200625T203618Z
LAST-MODIFIED:20200625T203636Z
UID:64069-1593158400-1593190800@krtnradio.com
SUMMARY:Thursday\, June 26th New Mexico Author Louis Serna will be on KRTN 93.9 FM at 8:30 am to Discuss his Books; Saw Mills and The Knights Templar Stones
DESCRIPTION:Thursday New Mexico author Louis Serna will be on KRTN at 8:30 am to discuss his books Saw Mills and his book The Knights Templar and the mysterious stones of Northern New Mexico. Coincidentally I am planning to replace Forrest Fenn Friday with the subject of these strange stones. I have actually seen both of these stones(as have many New Mexicans) and I am featured in this book. Chapter 8 is about my story involving these stones. I can tell you this story is sure to catch the national spotlight as there are several television shows that have been in contact with Serna.
URL:https://krtnradio.com/wp/event/thursday-june-26th-new-mexico-author-louis-serna-will-be-on-krtn-at-830-am-to-discuss-his-books-saw-mills-and-the-knights-templar-stones-2/
CATEGORIES:Area Events
ATTACH;FMTTYPE=image/jpeg:https://krtnradio.com/wp/wp-content/uploads/2020/06/105699897_2607360926245602_3502148616848572815_n.jpg
END:VEVENT
END:VCALENDAR