BEGIN:VCALENDAR
VERSION:2.0
PRODID:-//KRTN Enchanted Air Radio - ECPv5.16.4.1//NONSGML v1.0//EN
CALSCALE:GREGORIAN
METHOD:PUBLISH
X-WR-CALNAME:KRTN Enchanted Air Radio
X-ORIGINAL-URL:https://krtnradio.com/wp
X-WR-CALDESC:Events for KRTN Enchanted Air Radio
BEGIN:VTIMEZONE
TZID:America/Denver
BEGIN:DAYLIGHT
TZOFFSETFROM:-0700
TZOFFSETTO:-0600
TZNAME:MDT
DTSTART:20240310T090000
END:DAYLIGHT
BEGIN:STANDARD
TZOFFSETFROM:-0600
TZOFFSETTO:-0700
TZNAME:MST
DTSTART:20241103T080000
END:STANDARD
END:VTIMEZONE
BEGIN:VEVENT
DTSTART;TZID=America/Denver:20240414T080000
DTEND;TZID=America/Denver:20240414T190000
DTSTAMP:20260423T215125
CREATED:20240320T164955Z
LAST-MODIFIED:20240320T164955Z
UID:89214-1713081600-1713121200@krtnradio.com
SUMMARY:The Western Hunt Fest
DESCRIPTION:Time & Location\n\n\nApr 13\, 2024\, 8:00 AM – Apr 14\, 2024\, 7:00 PM \nRaton\, 34025 US-64\, Raton\, NM 87740\, USA \nREGISTER HERE
URL:https://krtnradio.com/wp/event/the-western-hunt-fest-2/
CATEGORIES:Area Events
END:VEVENT
END:VCALENDAR