BEGIN:VCALENDAR
VERSION:2.0
PRODID:-//KRTN Enchanted Air Radio - ECPv5.16.4.1//NONSGML v1.0//EN
CALSCALE:GREGORIAN
METHOD:PUBLISH
X-WR-CALNAME:KRTN Enchanted Air Radio
X-ORIGINAL-URL:https://krtnradio.com/wp
X-WR-CALDESC:Events for KRTN Enchanted Air Radio
BEGIN:VTIMEZONE
TZID:America/Denver
BEGIN:DAYLIGHT
TZOFFSETFROM:-0700
TZOFFSETTO:-0600
TZNAME:MDT
DTSTART:20260308T090000
END:DAYLIGHT
BEGIN:STANDARD
TZOFFSETFROM:-0600
TZOFFSETTO:-0700
TZNAME:MST
DTSTART:20261101T080000
END:STANDARD
END:VTIMEZONE
BEGIN:VEVENT
DTSTART;TZID=America/Denver:20260414T140000
DTEND;TZID=America/Denver:20260414T140000
DTSTAMP:20260422T221933
CREATED:20260406T200551Z
LAST-MODIFIED:20260406T200551Z
UID:100406-1776175200-1776175200@krtnradio.com
SUMMARY:The Retired Public Employees of New Mexico\, Chapter 18\, Tuesday April 14\, 2026\, at 2:00 pm
DESCRIPTION:The Retired Public Employees of New Mexico\, Chapter 18\, will meet at the Raton Senior Center on Tuesday\, April 14th at 2:00pm.
URL:https://krtnradio.com/wp/event/the-retired-public-employees-of-new-mexico-chapter-18-tuesday-april-14-2026-at-200-pm/
CATEGORIES:Meetings
END:VEVENT
END:VCALENDAR