BEGIN:VCALENDAR
VERSION:2.0
PRODID:-//KRTN Enchanted Air Radio - ECPv5.16.4.1//NONSGML v1.0//EN
CALSCALE:GREGORIAN
METHOD:PUBLISH
X-WR-CALNAME:KRTN Enchanted Air Radio
X-ORIGINAL-URL:https://krtnradio.com/wp
X-WR-CALDESC:Events for KRTN Enchanted Air Radio
BEGIN:VTIMEZONE
TZID:America/Denver
BEGIN:DAYLIGHT
TZOFFSETFROM:-0700
TZOFFSETTO:-0600
TZNAME:MDT
DTSTART:20200308T090000
END:DAYLIGHT
BEGIN:STANDARD
TZOFFSETFROM:-0600
TZOFFSETTO:-0700
TZNAME:MST
DTSTART:20201101T080000
END:STANDARD
END:VTIMEZONE
BEGIN:VEVENT
DTSTART;TZID=America/Denver:20200926T180000
DTEND;TZID=America/Denver:20200926T180000
DTSTAMP:20260424T133822
CREATED:20200915T172704Z
LAST-MODIFIED:20200915T172704Z
UID:67098-1601143200-1601143200@krtnradio.com
SUMMARY:The Other Place Is Greener Presents Main Street Comedy w Ben Roy Southern Colorado Repertory Theatre (SCRT)
DESCRIPTION:For show updates https://www.facebook.com/events/3351896208206721/ \nTICKETS ON SALE NOW!\n“Presented by The Other Place is Greener with support from Bigtop Studios and Nana & Nano Monteleone’s Deli and Pasta House. We are proud to bring Ben Roy and friends to Trinidad’s Southern Colorado Repertory Theatre (SCRT)!\nMasks are required for entry into this socially distanced comedy show and must be worn while moving throughout the venue. Susceptible populations are strongly recommended to refrain from participating in this event.\nSocially distanced comedy is back in Trinidad\, Colorado featuring Ben Roy\, Zach Abeyta\, and Elise Kerns hosted by Nathan Lund Saturday\, September 26th at the Southern Colorado Repertory Theatre! 6 pm Doors\, 7 pm Show! Tickets will be $10 in advance and $15 at the door.\nBen Roy created and starred in TruTv’s scripted comedy series THOSE WHO CAN’T along with fellow Grawlix comedy troupe members\, Adam Cayton-Holland and Andrew Orvedahl. Set in Denver\, Those Who Can’t follows three dysfunctional high school teachers\, who are as screwed-up as the kids they teach. In addition\, Ben is also a prolific stand-up comedian and appeared on Ari Shaffir’s Comedy Central show\, THIS IS NOT HAPPENING. He has also been on ADAM DEVINE’S HOUSE PARTY and HBO’s FUNNY AS HELL. Ben has released 3 comedy albums including\, I GOT DEMONS\, which was featured in LAUGHSPIN as one of the Top Comedy Albums of the year.\nZach Abeyta is a stand-up comedian and Bboy from Albuquerque New Mexico. He has been breakdancing for eight years and represents the Flava Pheenz Crew. Straight from the cipher to the stage\, Zach Abeyta can be seen regularly at comedy shows around the town. His comedy style is just as expressive as his dance moves\, mixing creative wording with heavy physicality. Zach has won several comedy contests\, appeared in magazines\, and performed at multiple comedy festivals. He runs his own comedy show monthly at Canteen Brewhouse. Look out for a chance to see Zach performing across the southwest.\nELISE KERNS HAS BEEN DOING STAND-UP COMEDY FOR 2 YEARS BUT HAS BEEN AROUND IT FOR 30 YEARS THANKS TO HER COMEDIAN FATHER\, RICK KERNS. As a comedian herself\, she’s been hailed as “hilarious” by Wende Curtis\, owner of Comedy Works\, She’s opened for the likes of Josh Blue\, Mitch Fatel\, and Todd Glass. She’s performed at the world-famous Comedy Works a handful of times\, for sold-out crowds at the historic Rialto Theater in Loveland\, CO\, and the Oriental Theater in Denver\, CO\, and Fiddler’s Green Amphitheater.\nNathan Lund has traveled the country and is a favorite at Denver’s Comedy Works. He was featured on the TV show “Flophouse” on the Viceland network as well as the BBC2 show “Horizon”. Nathan was a part of Funny or Die’s Oddball Comedy Fest\, Crom Comedy Festival\, Savage Henry Fest\, Orlando Indie Comedy Festival\, and the High Plains Comedy Festival. He is the host of the podcast One on Lund and is the reigning Denver Comedy Champion.\nThere are less than 50 seats available so get your tickets before they’re gone!”
URL:https://krtnradio.com/wp/event/the-other-place-is-greener-presents-main-street-comedy-w-ben-roy-southern-colorado-repertory-theatre-scrt/
LOCATION:SCRT\, 131 W MAIN STREET\, TRINIDAD\, CO\, 81082
CATEGORIES:Area Events
ATTACH;FMTTYPE=image/jpeg:https://krtnradio.com/wp/wp-content/uploads/2020/09/Comedy-on-Main-Sept-2020.jpg
END:VEVENT
END:VCALENDAR