BEGIN:VCALENDAR
VERSION:2.0
PRODID:-//KRTN Enchanted Air Radio - ECPv5.16.4.1//NONSGML v1.0//EN
CALSCALE:GREGORIAN
METHOD:PUBLISH
X-WR-CALNAME:KRTN Enchanted Air Radio
X-ORIGINAL-URL:https://krtnradio.com/wp
X-WR-CALDESC:Events for KRTN Enchanted Air Radio
BEGIN:VTIMEZONE
TZID:America/Denver
BEGIN:DAYLIGHT
TZOFFSETFROM:-0700
TZOFFSETTO:-0600
TZNAME:MDT
DTSTART:20180311T090000
END:DAYLIGHT
BEGIN:STANDARD
TZOFFSETFROM:-0600
TZOFFSETTO:-0700
TZNAME:MST
DTSTART:20181104T080000
END:STANDARD
END:VTIMEZONE
BEGIN:VEVENT
DTSTART;TZID=America/Denver:20180929T190000
DTEND;TZID=America/Denver:20180929T190000
DTSTAMP:20260425T193824
CREATED:20180911T210932Z
LAST-MODIFIED:20180921T171356Z
UID:43143-1538247600-1538247600@krtnradio.com
SUMMARY:The Magic Piano of John Walker & The Legendary Piano Style of Floyd Cramer with Dirt Storm Drifters
DESCRIPTION:The Magic Piano of John Walker & the Legendary Piano Style of Floyd Cramer. \nGeneral Admission $10. \nJohn learned to play the piano by ear while in high school. After hearing Floyd Cramer perform\, John said\, “now that’s the way the piano ought to be played”. Ever since\, John has been learning and mastering the legendary “bent note” style of the great Floyd Cramer. \nIn 2002 John’s band “Warm Country Heart” performed at the Masters Festival of Music\, which included Floyd Cramer\, Chet Atkins and Boots Randolph. Drummer Jack Gruebel performed with the Masters Three for 15 years and came out of retirement to play with Warm Country Heart and remembers Cramer telling him that Walker was the only player he had heard that played the piano like Floyd Cramer.
URL:https://krtnradio.com/wp/event/the-magic-piano-of-john-walker-the-legendary-piano-style-of-floyd-cramer/
LOCATION:Shuler Theater\, 131 N. 2nd Street\, Raton\, NM\, 87740\, United States
CATEGORIES:Area Events
ATTACH;FMTTYPE=image/jpeg:https://krtnradio.com/wp/wp-content/uploads/2018/09/piano.jpg
END:VEVENT
END:VCALENDAR