BEGIN:VCALENDAR
VERSION:2.0
PRODID:-//KRTN Enchanted Air Radio - ECPv5.16.4.1//NONSGML v1.0//EN
CALSCALE:GREGORIAN
METHOD:PUBLISH
X-WR-CALNAME:KRTN Enchanted Air Radio
X-ORIGINAL-URL:https://krtnradio.com/wp
X-WR-CALDESC:Events for KRTN Enchanted Air Radio
BEGIN:VTIMEZONE
TZID:America/Denver
BEGIN:DAYLIGHT
TZOFFSETFROM:-0700
TZOFFSETTO:-0600
TZNAME:MDT
DTSTART:20170312T090000
END:DAYLIGHT
BEGIN:STANDARD
TZOFFSETFROM:-0600
TZOFFSETTO:-0700
TZNAME:MST
DTSTART:20171105T080000
END:STANDARD
END:VTIMEZONE
BEGIN:VEVENT
DTSTART;VALUE=DATE:20170201
DTEND;VALUE=DATE:20170205
DTSTAMP:20260425T100500
CREATED:20170116T175924Z
LAST-MODIFIED:20170116T175924Z
UID:32126-1485907200-1486252799@krtnradio.com
SUMMARY:The Bill of Rights and You: National Archives Exhibit
DESCRIPTION:The Raton Museum is hosting a new pop-up exhibition from the National Archives\, The Bill of Rights and You\, commemorating the 225th anniversary of the ratification of this landmark document. The Bill of Rights and You spotlights one of the most remarkable periods in American history\, explores the origins of the first ten amendments to the U.S. Constitution (collectively known as the Bill of Rights)\, illustrates how each amendment protects U.S. citizens\, and looks at how Americans exercise the rights outlined in the amendments. The Bill of Rights and You invites visitors to connect directly with the people\, places\, and events that mark this historic document’s evolution.  This exhibit runs through March 4\,2017.  \n\n\nThe Bill of Rights and You co-curator Jennifer Johnson states: \n“The Bill of Rights represents the Founder’s vision that it would be the people\, through votes\, that could change the Constitution with enough consensus. And when the people desired a Bill of Rights\, our first ten amendments were added to our governing charter.” \nEducational activities and resources are available for schools and organizations that are interested in coordinating study plans with this exhibition.  Contact the Raton Museum to schedule your trip.  The Raton Museum is open Wednesday – Saturday\, 10:00am to 4:00pm Phone # 575-445-8979\, email ratonmuseum@gmail.com\, website www.theratonmuseum.org. \nThe Bill of Rights and You is organized by the National Archives and Records Administration\, and traveled by the National Archives Traveling Exhibits Service (NATES). This exhibition was developed in collaboration with the National Archives’ National Outreach Initiative to commemorate the 225th Anniversary of the Bill of Rights. The exhibition is presented in part by AT&T\, Seedlings Foundation\, and the National Archives Foundation. \nThis exhibit is brought to you in collaboration with the New Mexico Humanities Council and the Federation of State Humanities Councils.
URL:https://krtnradio.com/wp/event/the-bill-of-rights-and-you-national-archives-exhibit-3/
LOCATION:Raton Museum\, 108 South Second Street\, Raton\, NM\, 87740\, United States
CATEGORIES:Area Events
ATTACH;FMTTYPE=image/jpeg:https://krtnradio.com/wp/wp-content/uploads/2017/01/bill-o-fRights-225-yrs.jpg
END:VEVENT
END:VCALENDAR