BEGIN:VCALENDAR
VERSION:2.0
PRODID:-//KRTN Enchanted Air Radio - ECPv5.16.4.1//NONSGML v1.0//EN
CALSCALE:GREGORIAN
METHOD:PUBLISH
X-WR-CALNAME:KRTN Enchanted Air Radio
X-ORIGINAL-URL:https://krtnradio.com/wp
X-WR-CALDESC:Events for KRTN Enchanted Air Radio
BEGIN:VTIMEZONE
TZID:America/Denver
BEGIN:DAYLIGHT
TZOFFSETFROM:-0700
TZOFFSETTO:-0600
TZNAME:MDT
DTSTART:20180311T090000
END:DAYLIGHT
BEGIN:STANDARD
TZOFFSETFROM:-0600
TZOFFSETTO:-0700
TZNAME:MST
DTSTART:20181104T080000
END:STANDARD
END:VTIMEZONE
BEGIN:VEVENT
DTSTART;TZID=America/Denver:20180924T093000
DTEND;TZID=America/Denver:20180924T103000
DTSTAMP:20260425T084238
CREATED:20180917T155514Z
LAST-MODIFIED:20180917T155514Z
UID:43380-1537781400-1537785000@krtnradio.com
SUMMARY:Tai Chi Class-Advanced
DESCRIPTION:Tai Chi is a terrific exercise for everyone — as long as they choose the best approach. Tai Chi is gentle\, and can quickly improve balance\, core strength\, circulation and flexibility\, and at the same time decrease stress levels and increase life vibrancy and joy. \nSIX-WEEK CLASS SCHEDULE\nMondays and Wednesdays\, Sept. 24 – Oct. 31\n– Advanced Classes from 9:30-10:30 a.m.\n– Novice Classes from 10:30-11:30 a.m. \nREGISTRATION FEES\n– $40.00 Fee\n– For those 60+ years\, $40.00 registration fee paid by Mt. Carmel \nMt. Carmel Wellness & Community Center\nGarden Room\n911 Robsinson Ave.\nTrinidad\, CO \nContact Patricia Duran to register:\n719-845-4875 | pduran@mtcarmelcenter.org
URL:https://krtnradio.com/wp/event/tai-chi-class-advanced/
LOCATION:Mt Carmel Health\, Wellness\, & Community Center\, Trinidad\, CO\, 81082\, United States
CATEGORIES:Area Events
ATTACH;FMTTYPE=image/png:https://krtnradio.com/wp/wp-content/uploads/2018/09/tai-chi.png
END:VEVENT
END:VCALENDAR