BEGIN:VCALENDAR
VERSION:2.0
PRODID:-//KRTN Enchanted Air Radio - ECPv5.16.4.1//NONSGML v1.0//EN
CALSCALE:GREGORIAN
METHOD:PUBLISH
X-WR-CALNAME:KRTN Enchanted Air Radio
X-ORIGINAL-URL:https://krtnradio.com/wp
X-WR-CALDESC:Events for KRTN Enchanted Air Radio
BEGIN:VTIMEZONE
TZID:America/Denver
BEGIN:DAYLIGHT
TZOFFSETFROM:-0700
TZOFFSETTO:-0600
TZNAME:MDT
DTSTART:20200308T090000
END:DAYLIGHT
BEGIN:STANDARD
TZOFFSETFROM:-0600
TZOFFSETTO:-0700
TZNAME:MST
DTSTART:20201101T080000
END:STANDARD
END:VTIMEZONE
BEGIN:VEVENT
DTSTART;TZID=America/Denver:20200406T100000
DTEND;TZID=America/Denver:20200406T100000
DTSTAMP:20260425T154006
CREATED:20200120T175223Z
LAST-MODIFIED:20200401T213634Z
UID:58874-1586167200-1586167200@krtnradio.com
SUMMARY:ZOOM: Tai Chi Beginner Class ~ Mt. Carmel Wellness & Community Center
DESCRIPTION:Until Apr 29\nVirtual Tai Chi Classes\nMt. Carmel Wellness & Community Center\n\nVirtual Tai Chi Class Starting April 1\, 2020 10:00 am (MST) To join Tai Chi via Zoom… (click on or copy the link below to your browser. Once you do this you will be asked to install Zoom\, continue to follow the instructions on your screen) https://us04web.zoom.us/j/152726764? Meeting ID: 152 726 764 \n\nTai Chi Classes\nMonday and Wednesday mornings\nAdvanced Class: Feb 17 – Apr 22\n9:00 am – 9:45 am\nBeginner Class: Mar 2 – Apr 22\n10:00 am – 10:45 am\nCall 719-845-4894 to sign up today!
URL:https://krtnradio.com/wp/event/tai-chi-beginner-class-mt-carmel-wellness-community-center-11/
LOCATION:Mt Carmel Health\, Wellness\, & Community Center\, Trinidad\, CO\, 81082\, United States
CATEGORIES:Meetings
ATTACH;FMTTYPE=image/jpeg:https://krtnradio.com/wp/wp-content/uploads/2020/01/Tai-Chi-Classes-Spring-2020-e1586204020281.jpg
END:VEVENT
END:VCALENDAR