BEGIN:VCALENDAR
VERSION:2.0
PRODID:-//KRTN Enchanted Air Radio - ECPv5.16.4.1//NONSGML v1.0//EN
CALSCALE:GREGORIAN
METHOD:PUBLISH
X-WR-CALNAME:KRTN Enchanted Air Radio
X-ORIGINAL-URL:https://krtnradio.com/wp
X-WR-CALDESC:Events for KRTN Enchanted Air Radio
BEGIN:VTIMEZONE
TZID:America/Denver
BEGIN:DAYLIGHT
TZOFFSETFROM:-0700
TZOFFSETTO:-0600
TZNAME:MDT
DTSTART:20200308T090000
END:DAYLIGHT
BEGIN:STANDARD
TZOFFSETFROM:-0600
TZOFFSETTO:-0700
TZNAME:MST
DTSTART:20201101T080000
END:STANDARD
END:VTIMEZONE
BEGIN:VEVENT
DTSTART;TZID=America/Denver:20200323T090000
DTEND;TZID=America/Denver:20200323T090000
DTSTAMP:20260425T201142
CREATED:20200120T171905Z
LAST-MODIFIED:20200406T200744Z
UID:58831-1584954000-1584954000@krtnradio.com
SUMMARY:Virtual: Tai Chi Advanced Class ~ Mt. Carmel Wellness & Community Center
DESCRIPTION:Tai Chi Classes\nMonday and Wednesday mornings\nAdvanced Class: Feb 17 – Apr 22\n9:00 am – 9:45 am\nBeginner Class: Mar 2 – Apr 22\n10:00 am – 10:45 am\nCall 719-845-4894 to sign up today!
URL:https://krtnradio.com/wp/event/tai-chi-advanced-class-mt-carmel-wellness-community-center-11/
LOCATION:Mt Carmel Health\, Wellness\, & Community Center\, Trinidad\, CO\, 81082\, United States
CATEGORIES:Meetings
ATTACH;FMTTYPE=image/jpeg:https://krtnradio.com/wp/wp-content/uploads/2020/01/Tai-Chi-Classes-Spring-2020-e1586204020281.jpg
END:VEVENT
END:VCALENDAR