BEGIN:VCALENDAR
VERSION:2.0
PRODID:-//KRTN Enchanted Air Radio - ECPv5.16.4.1//NONSGML v1.0//EN
CALSCALE:GREGORIAN
METHOD:PUBLISH
X-WR-CALNAME:KRTN Enchanted Air Radio
X-ORIGINAL-URL:https://krtnradio.com/wp
X-WR-CALDESC:Events for KRTN Enchanted Air Radio
BEGIN:VTIMEZONE
TZID:America/Denver
BEGIN:DAYLIGHT
TZOFFSETFROM:-0700
TZOFFSETTO:-0600
TZNAME:MDT
DTSTART:20200308T090000
END:DAYLIGHT
BEGIN:STANDARD
TZOFFSETFROM:-0600
TZOFFSETTO:-0700
TZNAME:MST
DTSTART:20201101T080000
END:STANDARD
END:VTIMEZONE
BEGIN:VEVENT
DTSTART;TZID=America/Denver:20200403T180000
DTEND;TZID=America/Denver:20200403T220000
DTSTAMP:20260425T173349
CREATED:20200212T212953Z
LAST-MODIFIED:20200317T213101Z
UID:60055-1585936800-1585951200@krtnradio.com
SUMMARY:Postponed: Syd Masters & The Swing Riders ~ NRA Whittington Center
DESCRIPTION:Our 5th Annual Syd Masters & The Swing Riders\nDinner and a Dance \nTickets can be purchased over the phone at 575-445-3615\, Ask for Becky\, or you can stop by! \nLocation: NRA Whittington Center Cafeteria\nDate: April 3rd\, 2020\nTime: 6pm \n$40.00/ Individual\n$75.00/ Couple\nDance
URL:https://krtnradio.com/wp/event/syd-masters-the-swing-riders-nra-whittington-center/
LOCATION:NRA Whittington Center\, South of Raton\, Raton\, 87740\, United States
CATEGORIES:Area Events
ATTACH;FMTTYPE=image/jpeg:https://krtnradio.com/wp/wp-content/uploads/2020/02/5th-Annual-Syd-Masters-NRA-e1585078730589.jpg
END:VEVENT
END:VCALENDAR