BEGIN:VCALENDAR
VERSION:2.0
PRODID:-//KRTN Enchanted Air Radio - ECPv5.16.4.1//NONSGML v1.0//EN
CALSCALE:GREGORIAN
METHOD:PUBLISH
X-WR-CALNAME:KRTN Enchanted Air Radio
X-ORIGINAL-URL:https://krtnradio.com/wp
X-WR-CALDESC:Events for KRTN Enchanted Air Radio
BEGIN:VTIMEZONE
TZID:America/Denver
BEGIN:DAYLIGHT
TZOFFSETFROM:-0700
TZOFFSETTO:-0600
TZNAME:MDT
DTSTART:20240310T090000
END:DAYLIGHT
BEGIN:STANDARD
TZOFFSETFROM:-0600
TZOFFSETTO:-0700
TZNAME:MST
DTSTART:20241103T080000
END:STANDARD
END:VTIMEZONE
BEGIN:VEVENT
DTSTART;TZID=America/Denver:20240331T130000
DTEND;TZID=America/Denver:20240331T160000
DTSTAMP:20260424T004823
CREATED:20240326T183538Z
LAST-MODIFIED:20240326T183538Z
UID:89349-1711890000-1711900800@krtnradio.com
SUMMARY:Swords & Boards with Niko & Alex Zia Youth Center
DESCRIPTION:1:00 pm – 4:00 pm\nMarch 31\, 2024 – April 1\, 2024 \nDungeons and Dragons board games. Snacks provided \n\n\n\n\nZia Youth Center\n\n100 S. 2nd Street\nRaton\, NM 87740
URL:https://krtnradio.com/wp/event/swords-boards-with-niko-alex-zia-youth-center/
CATEGORIES:Area Events
END:VEVENT
END:VCALENDAR