BEGIN:VCALENDAR
VERSION:2.0
PRODID:-//KRTN Enchanted Air Radio - ECPv5.16.4.1//NONSGML v1.0//EN
CALSCALE:GREGORIAN
METHOD:PUBLISH
X-WR-CALNAME:KRTN Enchanted Air Radio
X-ORIGINAL-URL:https://krtnradio.com/wp
X-WR-CALDESC:Events for KRTN Enchanted Air Radio
BEGIN:VTIMEZONE
TZID:America/Denver
BEGIN:DAYLIGHT
TZOFFSETFROM:-0700
TZOFFSETTO:-0600
TZNAME:MDT
DTSTART:20200308T090000
END:DAYLIGHT
BEGIN:STANDARD
TZOFFSETFROM:-0600
TZOFFSETTO:-0700
TZNAME:MST
DTSTART:20201101T080000
END:STANDARD
END:VTIMEZONE
BEGIN:VEVENT
DTSTART;TZID=America/Denver:20200712T143000
DTEND;TZID=America/Denver:20200712T170000
DTSTAMP:20260425T093252
CREATED:20200625T173430Z
LAST-MODIFIED:20200625T173430Z
UID:64001-1594564200-1594573200@krtnradio.com
SUMMARY:Summer Services @ Little Rock Church ~ Johnson Mesa
DESCRIPTION:SERVICES FOR EACH SUNDAY FROM JUNE 28TH THROUGH AUGUST 9TH\,  WILL ALL BE HELD AT 2:30 PM. \nTHE ANNUAL PICNIC WILL BE HELD ON AUGUST 16TH AND WILL BEGIN WITH A POTLUCK MEAL AT NOON\, FOLLOWED BY A WORSHIP SERVICE AND AN AFTERNOON OF FELLOWSHIP. MUSICIANS ARE ENCOURAGED TO BRING THEIR INSTRUMENTS
URL:https://krtnradio.com/wp/event/summer-services-little-rock-church-johnson-mesa-11/
CATEGORIES:Area Events
ATTACH;FMTTYPE=image/jpeg:https://krtnradio.com/wp/wp-content/uploads/2019/06/Johnson-Mesa-Church.jpg
END:VEVENT
END:VCALENDAR