BEGIN:VCALENDAR
VERSION:2.0
PRODID:-//KRTN Enchanted Air Radio - ECPv5.16.4.1//NONSGML v1.0//EN
CALSCALE:GREGORIAN
METHOD:PUBLISH
X-WR-CALNAME:KRTN Enchanted Air Radio
X-ORIGINAL-URL:https://krtnradio.com/wp
X-WR-CALDESC:Events for KRTN Enchanted Air Radio
BEGIN:VTIMEZONE
TZID:America/Denver
BEGIN:DAYLIGHT
TZOFFSETFROM:-0700
TZOFFSETTO:-0600
TZNAME:MDT
DTSTART:20200308T090000
END:DAYLIGHT
BEGIN:STANDARD
TZOFFSETFROM:-0600
TZOFFSETTO:-0700
TZNAME:MST
DTSTART:20201101T080000
END:STANDARD
END:VTIMEZONE
BEGIN:VEVENT
DTSTART;TZID=America/Denver:20200930T173000
DTEND;TZID=America/Denver:20200930T173000
DTSTAMP:20260424T084026
CREATED:20200914T202825Z
LAST-MODIFIED:20200914T202825Z
UID:67012-1601487000-1601487000@krtnradio.com
SUMMARY:Stress Management Circle ~ Hosted by Mt. Carmel Wellness & Community Center
DESCRIPTION:FREE!\nJoin us on Wednesdays to learn how to manage your stress.\nLog on at 5:45 pm\nClick the link below to register:\nhttps://us02web.zoom.us/meeting/register/tZYkc–gqT4rEtA7JWYtadTbVXH-MimGxMtX\nCall 719-845-4894 for more information
URL:https://krtnradio.com/wp/event/stress-management-circle-hosted-by-mt-carmel-wellness-community-center-9/
CATEGORIES:Meetings
ATTACH;FMTTYPE=image/jpeg:https://krtnradio.com/wp/wp-content/uploads/2020/05/Stress-Management-Circle.jpg
END:VEVENT
END:VCALENDAR