BEGIN:VCALENDAR
VERSION:2.0
PRODID:-//KRTN Enchanted Air Radio - ECPv5.16.4.1//NONSGML v1.0//EN
CALSCALE:GREGORIAN
METHOD:PUBLISH
X-WR-CALNAME:KRTN Enchanted Air Radio
X-ORIGINAL-URL:https://krtnradio.com/wp
X-WR-CALDESC:Events for KRTN Enchanted Air Radio
BEGIN:VTIMEZONE
TZID:America/Denver
BEGIN:DAYLIGHT
TZOFFSETFROM:-0700
TZOFFSETTO:-0600
TZNAME:MDT
DTSTART:20200308T090000
END:DAYLIGHT
BEGIN:STANDARD
TZOFFSETFROM:-0600
TZOFFSETTO:-0700
TZNAME:MST
DTSTART:20201101T080000
END:STANDARD
END:VTIMEZONE
BEGIN:VEVENT
DTSTART;TZID=America/Denver:20200527T173000
DTEND;TZID=America/Denver:20200527T173000
DTSTAMP:20260425T123156
CREATED:20200518T213721Z
LAST-MODIFIED:20200518T213721Z
UID:63023-1590600600-1590600600@krtnradio.com
SUMMARY:Stress Management Circle ~ Hosted by Mt. Carmel Wellness & Community Center
DESCRIPTION:Stress Management Circle\nLearn Techniques for Managing Stress \nWednesdays at 5:30 pm \nRegister in advance for this meeting:\nhttps://us02web.zoom.us/meeting/register/tZctceGvrT4qGtdQmi3cMupatMkKjLHryoJL \nAfter registering\, you will receive a confirmation email containing information about joining the meeting.
URL:https://krtnradio.com/wp/event/stress-management-circle-hosted-by-mt-carmel-wellness-community-center-2/
CATEGORIES:Area Events
ATTACH;FMTTYPE=image/jpeg:https://krtnradio.com/wp/wp-content/uploads/2020/05/Stress-Management-Circle.jpg
END:VEVENT
END:VCALENDAR