BEGIN:VCALENDAR
VERSION:2.0
PRODID:-//KRTN Enchanted Air Radio - ECPv5.16.4.1//NONSGML v1.0//EN
CALSCALE:GREGORIAN
METHOD:PUBLISH
X-WR-CALNAME:KRTN Enchanted Air Radio
X-ORIGINAL-URL:https://krtnradio.com/wp
X-WR-CALDESC:Events for KRTN Enchanted Air Radio
BEGIN:VTIMEZONE
TZID:America/Denver
BEGIN:DAYLIGHT
TZOFFSETFROM:-0700
TZOFFSETTO:-0600
TZNAME:MDT
DTSTART:20200308T090000
END:DAYLIGHT
BEGIN:STANDARD
TZOFFSETFROM:-0600
TZOFFSETTO:-0700
TZNAME:MST
DTSTART:20201101T080000
END:STANDARD
END:VTIMEZONE
BEGIN:VEVENT
DTSTART;TZID=America/Denver:20200320T130000
DTEND;TZID=America/Denver:20200320T153000
DTSTAMP:20260425T201046
CREATED:20200115T203348Z
LAST-MODIFIED:20200317T202043Z
UID:58664-1584709200-1584718200@krtnradio.com
SUMMARY:Cancelled:Stitching Group ~ Carnegie Public Library
DESCRIPTION:Join for creation and conversation! \nNew members welcome! Learn about knitting\, crocheting\, and more!
URL:https://krtnradio.com/wp/event/stitching-group-carnegie-public-library-56/
LOCATION:Carnegie Public Library of Trinidad\, 202 N. Animas\, Trinidad\, CO\, 81082\, United States
CATEGORIES:Meetings
ATTACH;FMTTYPE=image/jpeg:https://krtnradio.com/wp/wp-content/uploads/2020/01/Stitching-Group-Carnegie-Public-Library-Logo.jpg
END:VEVENT
END:VCALENDAR