BEGIN:VCALENDAR
VERSION:2.0
PRODID:-//KRTN Enchanted Air Radio - ECPv5.16.4.1//NONSGML v1.0//EN
CALSCALE:GREGORIAN
METHOD:PUBLISH
X-WR-CALNAME:KRTN Enchanted Air Radio
X-ORIGINAL-URL:https://krtnradio.com/wp
X-WR-CALDESC:Events for KRTN Enchanted Air Radio
BEGIN:VTIMEZONE
TZID:America/Denver
BEGIN:DAYLIGHT
TZOFFSETFROM:-0700
TZOFFSETTO:-0600
TZNAME:MDT
DTSTART:20240310T090000
END:DAYLIGHT
BEGIN:STANDARD
TZOFFSETFROM:-0600
TZOFFSETTO:-0700
TZNAME:MST
DTSTART:20241103T080000
END:STANDARD
END:VTIMEZONE
BEGIN:VEVENT
DTSTART;TZID=America/Denver:20240203T190000
DTEND;TZID=America/Denver:20240203T210000
DTSTAMP:20260424T064915
CREATED:20240123T225555Z
LAST-MODIFIED:20240123T225555Z
UID:88221-1706986800-1706994000@krtnradio.com
SUMMARY:St. Patrick's St. Joseph's Father Daughter Dance
DESCRIPTION:
URL:https://krtnradio.com/wp/event/st-patricks-st-josephs-father-daughter-dance/
CATEGORIES:Area Events
END:VEVENT
END:VCALENDAR