BEGIN:VCALENDAR
VERSION:2.0
PRODID:-//KRTN Enchanted Air Radio - ECPv5.16.4.1//NONSGML v1.0//EN
CALSCALE:GREGORIAN
METHOD:PUBLISH
X-WR-CALNAME:KRTN Enchanted Air Radio
X-ORIGINAL-URL:https://krtnradio.com/wp
X-WR-CALDESC:Events for KRTN Enchanted Air Radio
BEGIN:VTIMEZONE
TZID:America/Denver
BEGIN:DAYLIGHT
TZOFFSETFROM:-0700
TZOFFSETTO:-0600
TZNAME:MDT
DTSTART:20200308T090000
END:DAYLIGHT
BEGIN:STANDARD
TZOFFSETFROM:-0600
TZOFFSETTO:-0700
TZNAME:MST
DTSTART:20201101T080000
END:STANDARD
END:VTIMEZONE
BEGIN:VEVENT
DTSTART;TZID=America/Denver:20200715T080000
DTEND;TZID=America/Denver:20200715T170000
DTSTAMP:20260425T061519
CREATED:20200715T191253Z
LAST-MODIFIED:20200715T191535Z
UID:64680-1594800000-1594832400@krtnradio.com
SUMMARY:St. Patrick- St. Joseph's Thrift Store - Closed
DESCRIPTION:Due to the Covid 19 virus\, the thrift store in Raton\,  will be closed until August 3rd\, 2020.
URL:https://krtnradio.com/wp/event/st-patrick-st-josephs-thrift-store-closed/
CATEGORIES:Meetings
END:VEVENT
END:VCALENDAR