BEGIN:VCALENDAR
VERSION:2.0
PRODID:-//KRTN Enchanted Air Radio - ECPv5.16.4.1//NONSGML v1.0//EN
CALSCALE:GREGORIAN
METHOD:PUBLISH
X-WR-CALNAME:KRTN Enchanted Air Radio
X-ORIGINAL-URL:https://krtnradio.com/wp
X-WR-CALDESC:Events for KRTN Enchanted Air Radio
BEGIN:VTIMEZONE
TZID:America/Denver
BEGIN:DAYLIGHT
TZOFFSETFROM:-0700
TZOFFSETTO:-0600
TZNAME:MDT
DTSTART:20200308T090000
END:DAYLIGHT
BEGIN:STANDARD
TZOFFSETFROM:-0600
TZOFFSETTO:-0700
TZNAME:MST
DTSTART:20201101T080000
END:STANDARD
END:VTIMEZONE
BEGIN:VEVENT
DTSTART;TZID=America/Denver:20200322T160000
DTEND;TZID=America/Denver:20200322T160000
DTSTAMP:20260425T214421
CREATED:20200313T143842Z
LAST-MODIFIED:20200313T155955Z
UID:61067-1584892800-1584892800@krtnradio.com
SUMMARY:Spring Equinox Celebration with Gongs ~ Infinite Potential Raton Yoga
DESCRIPTION:Sunday\, March 22\, 2020\, at 4 PM – 6 PM \nInfinite Potential Raton Yoga\n115 S 2nd Street\, Raton\, New Mexico 87740 \nWith all that is happening\, there is no better time for us to come together to raise the positive vibrations within and around us. \nOne of the important steps to us creating a safe and nurturing tomorrow for our community is to help soothe and heal our Mother Earth. \nSince 1873 when the ancestors of Colfax County and Las Animas County began coal mining\, so much was taken from our Mother. Have we done enough to establish the balance and return her to a state where she can thrive to continue to sustain us rather than to just exist? \nTogether as a community\, we can come\, infuse ourselves with the vibrations of our gongs and in going back out into our community that vibration can resonate through everyone we meet\, interact with and love. Think of it as a healing rippling effect. \nThe time is now.\nWe can make this happen together. \nGongs will play for 108minutes (1hr and 50mins) and you can stay for the entire duration or come for whatever part of the time you can. \nA minimum donation of $5\nAll ages are welcome. \nMats and blankets will be laid out for you so all you need to do is turn up. \nWe also have 4 zero gravity chairs for the person who may have difficulty laying on the ground for a long period of time. Please let us know in ADVANCE if you will be needing these. \nFeel free to call or text me if you have any further questions.\n♥ Colette\n575 707 2725
URL:https://krtnradio.com/wp/event/spring-equinox-celebration-with-gongs-infinite-potential-raton-yoga/
LOCATION:Infinite Potential Raton Yoga\, 115 S 2nd\, Raton\, NM\, 87740
CATEGORIES:Area Events
ATTACH;FMTTYPE=image/jpeg:https://krtnradio.com/wp/wp-content/uploads/2020/03/89536041_2582727362038281_5151498325895151616_o.jpg
END:VEVENT
END:VCALENDAR