BEGIN:VCALENDAR
VERSION:2.0
PRODID:-//KRTN Enchanted Air Radio - ECPv5.16.4.1//NONSGML v1.0//EN
CALSCALE:GREGORIAN
METHOD:PUBLISH
X-WR-CALNAME:KRTN Enchanted Air Radio
X-ORIGINAL-URL:https://krtnradio.com/wp
X-WR-CALDESC:Events for KRTN Enchanted Air Radio
BEGIN:VTIMEZONE
TZID:America/Denver
BEGIN:DAYLIGHT
TZOFFSETFROM:-0700
TZOFFSETTO:-0600
TZNAME:MDT
DTSTART:20200308T090000
END:DAYLIGHT
BEGIN:STANDARD
TZOFFSETFROM:-0600
TZOFFSETTO:-0700
TZNAME:MST
DTSTART:20201101T080000
END:STANDARD
END:VTIMEZONE
BEGIN:VEVENT
DTSTART;TZID=America/Denver:20200802T113000
DTEND;TZID=America/Denver:20200802T140000
DTSTAMP:20260425T062421
CREATED:20200720T150454Z
LAST-MODIFIED:20200720T150454Z
UID:64783-1596367800-1596376800@krtnradio.com
SUMMARY:Spaghetti Lunch ~ Raton Elks Lodge #865
DESCRIPTION:Sunday\, August 2\, 2020\, at 11:30 AM – 2 PM \nDrive-Up Spaghetti Lunch\, $10 per meal\nChoice of Spaghetti\, side salad\, and garlic bread or a Chef Salad. \nDue to NM COVID restrictions\, we are still closed and this is how we must do our fundraising. \nYour support will help us continue to support our community!
URL:https://krtnradio.com/wp/event/spaghetti-lunch-raton-elks-lodge-865/
LOCATION:Elk’s Lodge\, 300 S 2nd\, Raton\, 87740
CATEGORIES:Area Events
ATTACH;FMTTYPE=image/png:https://krtnradio.com/wp/wp-content/uploads/2020/02/spaghetti-dinner-fundraiser-clip-art.png
END:VEVENT
END:VCALENDAR