BEGIN:VCALENDAR
VERSION:2.0
PRODID:-//KRTN Enchanted Air Radio - ECPv5.16.4.1//NONSGML v1.0//EN
CALSCALE:GREGORIAN
METHOD:PUBLISH
X-WR-CALNAME:KRTN Enchanted Air Radio
X-ORIGINAL-URL:https://krtnradio.com/wp
X-WR-CALDESC:Events for KRTN Enchanted Air Radio
BEGIN:VTIMEZONE
TZID:America/Denver
BEGIN:DAYLIGHT
TZOFFSETFROM:-0700
TZOFFSETTO:-0600
TZNAME:MDT
DTSTART:20170312T090000
END:DAYLIGHT
BEGIN:STANDARD
TZOFFSETFROM:-0600
TZOFFSETTO:-0700
TZNAME:MST
DTSTART:20171105T080000
END:STANDARD
END:VTIMEZONE
BEGIN:VEVENT
DTSTART;TZID=America/Denver:20170109T100000
DTEND;TZID=America/Denver:20170130T140000
DTSTAMP:20260424T221752
CREATED:20160107T170401Z
LAST-MODIFIED:20161011T180323Z
UID:23902-1483956000-1485784800@krtnradio.com
SUMMARY:“Shades of the Southwest” Youth Art Show
DESCRIPTION:“Shades of the Southwest” is the Northeastern New Mexico – Southeastern Colorado Youth Art Show on display at the Old Pass Gallery from January 9th – January 30th in Raton\, New Mexico.\n \nReception is Friday\, January 20th from 3 pm – 5 pm. \nYouth artists should contact their school’s art teacher and submit artwork by Saturday\, January 7th\, 2 pm. \n \nOld Pass Art Gallery\, 145 South First Street\, Raton\, NM \n 
URL:https://krtnradio.com/wp/event/shades-of-the-southwest-youth-art-show-5/
LOCATION:Old Pass Gallery\, 145 S 1st St.\, Raton\, NM\, 87740\, United States
CATEGORIES:Area Events
ATTACH;FMTTYPE=image/jpeg:https://krtnradio.com/wp/wp-content/uploads/2015/09/shades-of-southwest-pic.jpg
ORGANIZER;CN="Raton%20Arts%20and%20Humanities":MAILTO:director@ratonarts.org
END:VEVENT
END:VCALENDAR