BEGIN:VCALENDAR
VERSION:2.0
PRODID:-//KRTN Enchanted Air Radio - ECPv5.16.4.1//NONSGML v1.0//EN
CALSCALE:GREGORIAN
METHOD:PUBLISH
X-WR-CALNAME:KRTN Enchanted Air Radio
X-ORIGINAL-URL:https://krtnradio.com/wp
X-WR-CALDESC:Events for KRTN Enchanted Air Radio
BEGIN:VTIMEZONE
TZID:America/Denver
BEGIN:DAYLIGHT
TZOFFSETFROM:-0700
TZOFFSETTO:-0600
TZNAME:MDT
DTSTART:20200308T090000
END:DAYLIGHT
BEGIN:STANDARD
TZOFFSETFROM:-0600
TZOFFSETTO:-0700
TZNAME:MST
DTSTART:20201101T080000
END:STANDARD
END:VTIMEZONE
BEGIN:VEVENT
DTSTART;TZID=America/Denver:20200223T140000
DTEND;TZID=America/Denver:20200223T160000
DTSTAMP:20260425T212330
CREATED:20200115T231827Z
LAST-MODIFIED:20200115T231838Z
UID:58708-1582466400-1582473600@krtnradio.com
SUMMARY:Same Time\, Next Year ~ Trinidad Community Theatre – A division of SCRT
DESCRIPTION:Trinidad Community Theatre Proudly Presents\n“Same Time\, Next Year” by Bernard Slade \nOne of the most popular romantic comedies of the century\, Same Time\, Next Year ran four years on Broadway\, winning a Tony® Award for lead actress Ellen Burstyn\, who later recreated her role in the successful motion picture. It remains one of the world’s most widely produced plays. The plot follows a love affair between two people\, Doris and George\, married to others\, who rendezvous once a year. Twenty-five years of manners and morals are hilariously and touchingly played out by the lovers. \nTwo-act comedy with one 10-minute intermission.\nSuited for ages 14 and up. \nSouthern Colorado Repertory Theatre (SCRT)\n131 W Main St\, Trinidad\, Colorado 81082 \nTickets\nwww.scrtheatre.com \nFRI\n14th\n7:00 PM – 9:00 PM \nSAT\n15th\n7:00 PM – 9:00 PM \nSUN\n16th\n2:00 PM – 4:00 PM \nFRI\n21st\n7:00 PM – 9:00 PM \nSAT\n22nd\n7:00 PM – 9:00 PM \nSUN\n23rd\n2:00 PM – 4:00 PM
URL:https://krtnradio.com/wp/event/same-time-next-year-trinidad-community-theatre-a-division-of-scrt-6/
LOCATION:SCRT\, 131 W MAIN STREET\, TRINIDAD\, CO\, 81082
CATEGORIES:Area Events
ATTACH;FMTTYPE=image/jpeg:https://krtnradio.com/wp/wp-content/uploads/2020/01/SCRT-Feb-14th-23rd.jpg
END:VEVENT
END:VCALENDAR