BEGIN:VCALENDAR
VERSION:2.0
PRODID:-//KRTN Enchanted Air Radio - ECPv5.16.4.1//NONSGML v1.0//EN
CALSCALE:GREGORIAN
METHOD:PUBLISH
X-WR-CALNAME:KRTN Enchanted Air Radio
X-ORIGINAL-URL:https://krtnradio.com/wp
X-WR-CALDESC:Events for KRTN Enchanted Air Radio
BEGIN:VTIMEZONE
TZID:America/Denver
BEGIN:DAYLIGHT
TZOFFSETFROM:-0700
TZOFFSETTO:-0600
TZNAME:MDT
DTSTART:20200308T090000
END:DAYLIGHT
BEGIN:STANDARD
TZOFFSETFROM:-0600
TZOFFSETTO:-0700
TZNAME:MST
DTSTART:20201101T080000
END:STANDARD
END:VTIMEZONE
BEGIN:VEVENT
DTSTART;TZID=America/Denver:20200325T060000
DTEND;TZID=America/Denver:20200325T170000
DTSTAMP:20260425T184127
CREATED:20200310T212853Z
LAST-MODIFIED:20200318T174113Z
UID:60958-1585116000-1585155600@krtnradio.com
SUMMARY:Canceled: Rise and Shine Yoga ~ Infinite Potential Raton
DESCRIPTION:March is here and soon Spring will be upon us! \nThis month many opportunities will arise for us to use our best judgement regarding choices\, decisions\, boundaries\, actions\, intentions\, ideas\, commitments\, people around you\, your intuition\, thoughts\, emotions and self-reflection. \nThat could be a lot for us to deal with individually and collectively. So\, it is very important for us to come together to support each other and for us to feel supported every step of the way. \n\nThese are our class offerings for March.\nPlease note that we have taken off our Monday 4pm classes until further notice. \nWe are excited to offer a community event to herald the coming in of Spring. We would love for as many people to flow through our studio for our Spring Equinox Gong Immersion with Colette Mee Chong-Armijo\, Lora Nava and Gina Ojeda. $5 minimum donation for this event and it will last for 1hr and 50mins. You can stay for the entire event or come and go as you can. \nWe are looking forward to seeing you in our safe and supportive community space this Merry Month of March.\n🙏🌱🌷
URL:https://krtnradio.com/wp/event/rise-and-shine-yoga-infinite-potential-raton-21/
LOCATION:Infinite Potential Raton Yoga\, 115 S 2nd\, Raton\, NM\, 87740
CATEGORIES:Meetings
ATTACH;FMTTYPE=image/jpeg:https://krtnradio.com/wp/wp-content/uploads/2019/03/Infinite-Potential-Raton.jpg
END:VEVENT
END:VCALENDAR