BEGIN:VCALENDAR
VERSION:2.0
PRODID:-//KRTN Enchanted Air Radio - ECPv5.16.4.1//NONSGML v1.0//EN
CALSCALE:GREGORIAN
METHOD:PUBLISH
X-WR-CALNAME:KRTN Enchanted Air Radio
X-ORIGINAL-URL:https://krtnradio.com/wp
X-WR-CALDESC:Events for KRTN Enchanted Air Radio
BEGIN:VTIMEZONE
TZID:America/Denver
BEGIN:DAYLIGHT
TZOFFSETFROM:-0700
TZOFFSETTO:-0600
TZNAME:MDT
DTSTART:20160313T090000
END:DAYLIGHT
BEGIN:STANDARD
TZOFFSETFROM:-0600
TZOFFSETTO:-0700
TZNAME:MST
DTSTART:20161106T080000
END:STANDARD
END:VTIMEZONE
BEGIN:VEVENT
DTSTART;VALUE=DATE:20161213
DTEND;VALUE=DATE:20161214
DTSTAMP:20260425T125749
CREATED:20160118T231019Z
LAST-MODIFIED:20160118T231019Z
UID:24170-1481587200-1481673599@krtnradio.com
SUMMARY:Retired School Employees Meeting
DESCRIPTION:Christmas Party at All Season’s Restaurant 11;30 am
URL:https://krtnradio.com/wp/event/retired-school-employees-meeting-10/
LOCATION:All Season’s Restaurant\, Raton \, NM\, 87740\, United States
CATEGORIES:Meetings
END:VEVENT
END:VCALENDAR