BEGIN:VCALENDAR
VERSION:2.0
PRODID:-//KRTN Enchanted Air Radio - ECPv5.16.4.1//NONSGML v1.0//EN
CALSCALE:GREGORIAN
METHOD:PUBLISH
X-WR-CALNAME:KRTN Enchanted Air Radio
X-ORIGINAL-URL:https://krtnradio.com/wp
X-WR-CALDESC:Events for KRTN Enchanted Air Radio
BEGIN:VTIMEZONE
TZID:America/Denver
BEGIN:DAYLIGHT
TZOFFSETFROM:-0700
TZOFFSETTO:-0600
TZNAME:MDT
DTSTART:20260308T090000
END:DAYLIGHT
BEGIN:STANDARD
TZOFFSETFROM:-0600
TZOFFSETTO:-0700
TZNAME:MST
DTSTART:20261101T080000
END:STANDARD
END:VTIMEZONE
BEGIN:VEVENT
DTSTART;TZID=America/Denver:20260418T130000
DTEND;TZID=America/Denver:20260418T170000
DTSTAMP:20260423T024858
CREATED:20260413T213508Z
LAST-MODIFIED:20260413T213508Z
UID:100708-1776517200-1776531600@krtnradio.com
SUMMARY:Relay For Life Trinidad Lanes Bowling Tournament Saturday April 18th\, 2026
DESCRIPTION:
URL:https://krtnradio.com/wp/event/relay-for-life-trinidad-lanes-bowling-tournament-saturday-april-18th-2026/
CATEGORIES:Area Events
END:VEVENT
END:VCALENDAR