BEGIN:VCALENDAR
VERSION:2.0
PRODID:-//KRTN Enchanted Air Radio - ECPv5.16.4.1//NONSGML v1.0//EN
CALSCALE:GREGORIAN
METHOD:PUBLISH
X-WR-CALNAME:KRTN Enchanted Air Radio
X-ORIGINAL-URL:https://krtnradio.com/wp
X-WR-CALDESC:Events for KRTN Enchanted Air Radio
BEGIN:VTIMEZONE
TZID:America/Denver
BEGIN:DAYLIGHT
TZOFFSETFROM:-0700
TZOFFSETTO:-0600
TZNAME:MDT
DTSTART:20200308T090000
END:DAYLIGHT
BEGIN:STANDARD
TZOFFSETFROM:-0600
TZOFFSETTO:-0700
TZNAME:MST
DTSTART:20201101T080000
END:STANDARD
END:VTIMEZONE
BEGIN:VEVENT
DTSTART;TZID=America/Denver:20200817T180000
DTEND;TZID=America/Denver:20200817T180000
DTSTAMP:20260424T204541
CREATED:20200812T194607Z
LAST-MODIFIED:20200814T191349Z
UID:65933-1597687200-1597687200@krtnradio.com
SUMMARY:Regular Meeting of the Raton Board of Education
DESCRIPTION:There will be a regular meeting of the Raton Board of Education \n*RHS Krivokapich Media Center* \n1535 Tiger Circle\, Raton\, New Mexico \nMonday\, August 17\, 2020\, at 6:00 p.m. \nDue to the ongoing COVID-19 public health emergency\, citizens are welcome to attend the meeting but must wear a face covering and maintain a 6 ft. social distance to minimize risk.  These measures are being taken to ensure public safety and we apologize for the inconvenience. \nZOOM Meeting Link:  https://zoom.us.j.99304902846?pwd=eGc1YXJkSjdFSjBpcXRtNTVtaEF6QT09 \n-Meeting I.D.  993 0490 2846              Passcode:  2rBZMq \nAGENDA \n\n  Call to order and roll call.\n  Pledge of Allegiance\n  Recognition of Students\, Staff\, and Visitors.  Requests to be recognized (5-minute limit)\n  Approval of Agenda.\n  Approval of Minutes:  7/20/20 Regular Meeting\,  7/20/20 Special Meeting\n  Informational Items: Principal Reports\, Superintendent Report\, COVID re-entry\, Technology\,       Board Member Report\n  Action Items: Financial Report/ Budget Adjustments/Transfers\, 2019-2020 Final Reports\, Approval of Physical Therapy RFP\, Consideration of and approval of a Resolution Authorizing Sale of School Bonds\, Establishing Procedures for the Sale and Delivery of the Bonds\, Authorizing and Approving Submission of a Completed Application for Financial Assistance and Project Approval to the New Mexico Finance Authority\, and Authorizing Other Matters Related to the Issuance of the Bonds.  Consideration of and approval of a Resolution Determining the Necessity for Lease-Purchase of Education Technology Equipment\, Estimate of Cost\, Statement of Source of Funds for Lease-Purchase Payments\, Estimated Tax Rate and Directing District’s Financial Advisor and Bond Counsel to Prepare Lease Purchase Agreement for the District’s Acquisition of Certain Education Technology Equipment and Establishing Date for Meeting to Consider a Resolution Granting Final Approval for the Lease-Purchase of Education Technology Equipment.  First Read Policy Advisory No. 206-AC- Nondiscrimination /Equal Opportunity Title IX.  First Read Policy Advisory No. 207- ACA Nondiscrimination on the Basis of Sex Title IX\, ACA-RA- Nondiscrimination on the Basis of Sex Title IX\, ACA-RB- Nondiscrimination on the Basis of Sex Title IX\, ACA-E- Nondiscrimination on the Basis of Sex Title IX\, First Read- Policy Advisory No. 208-JE Supplement- Student Attendance Supplement\, Discussion of Policy Services Alert regarding Family and Medical Leave Act (FMLA).\n Executive Session- Pursuant to the State “Open Meetings Act” Section 10-15-1(H) for discussion of limited personnel matters.  No action will be taken in the executive session.\n  Adjournment
URL:https://krtnradio.com/wp/event/regular-meeting-of-the-raton-board-of-education-10/
LOCATION:RHS Krivokapich Media Center\, 1535 Tiger Circle\, Raton\, New Mexico
CATEGORIES:Meetings
ATTACH;FMTTYPE=image/jpeg:https://krtnradio.com/wp/wp-content/uploads/2017/05/Raton-School-Bd-5-8-17-1797.jpg
END:VEVENT
END:VCALENDAR