BEGIN:VCALENDAR
VERSION:2.0
PRODID:-//KRTN Enchanted Air Radio - ECPv5.16.4.1//NONSGML v1.0//EN
CALSCALE:GREGORIAN
METHOD:PUBLISH
X-WR-CALNAME:KRTN Enchanted Air Radio
X-ORIGINAL-URL:https://krtnradio.com/wp
X-WR-CALDESC:Events for KRTN Enchanted Air Radio
BEGIN:VTIMEZONE
TZID:America/Denver
BEGIN:DAYLIGHT
TZOFFSETFROM:-0700
TZOFFSETTO:-0600
TZNAME:MDT
DTSTART:20200308T090000
END:DAYLIGHT
BEGIN:STANDARD
TZOFFSETFROM:-0600
TZOFFSETTO:-0700
TZNAME:MST
DTSTART:20201101T080000
END:STANDARD
END:VTIMEZONE
BEGIN:VEVENT
DTSTART;TZID=America/Denver:20200314T170000
DTEND;TZID=America/Denver:20200314T170000
DTSTAMP:20260425T214351
CREATED:20200226T184852Z
LAST-MODIFIED:20200226T184852Z
UID:60526-1584205200-1584205200@krtnradio.com
SUMMARY:Regular Bean Day Meeting ~ Wagon Mound Bean Day Celebration
DESCRIPTION:Our regular meeting for March has been scheduled at the firehouse in Wagon Mound
URL:https://krtnradio.com/wp/event/regular-bean-day-meeting-wagon-mound-bean-day-celebration/
CATEGORIES:Meetings
ATTACH;FMTTYPE=image/gif:https://krtnradio.com/wp/wp-content/uploads/2015/08/bean-day-2015-e1501881928163.gif
END:VEVENT
END:VCALENDAR