BEGIN:VCALENDAR
VERSION:2.0
PRODID:-//KRTN Enchanted Air Radio - ECPv5.16.4.1//NONSGML v1.0//EN
CALSCALE:GREGORIAN
METHOD:PUBLISH
X-WR-CALNAME:KRTN Enchanted Air Radio
X-ORIGINAL-URL:https://krtnradio.com/wp
X-WR-CALDESC:Events for KRTN Enchanted Air Radio
BEGIN:VTIMEZONE
TZID:America/Denver
BEGIN:DAYLIGHT
TZOFFSETFROM:-0700
TZOFFSETTO:-0600
TZNAME:MDT
DTSTART:20200308T090000
END:DAYLIGHT
BEGIN:STANDARD
TZOFFSETFROM:-0600
TZOFFSETTO:-0700
TZNAME:MST
DTSTART:20201101T080000
END:STANDARD
END:VTIMEZONE
BEGIN:VEVENT
DTSTART;TZID=America/Denver:20200325T100000
DTEND;TZID=America/Denver:20200325T150000
DTSTAMP:20260425T184147
CREATED:20200310T171008Z
LAST-MODIFIED:20200318T173945Z
UID:60885-1585130400-1585148400@krtnradio.com
SUMMARY:Canceled: Raton Veterans Outreach ~ New Mexico Department of Veterans’ Services
DESCRIPTION:  \nWednesday\, March 25\, 2020\, at 10 AM – 3 PM \n1483 Whittier St\, Raton\, NM 87740-2334\, United States
URL:https://krtnradio.com/wp/event/raton-veterans-outreach-new-mexico-department-of-veterans-services-4/
LOCATION:VA Community Clinic\, 1493Whittier\, Raton\, NM\, 87740
CATEGORIES:Meetings
ATTACH;FMTTYPE=image/gif:https://krtnradio.com/wp/wp-content/uploads/2019/10/VA-Outreach-Clinic-logo.gif
END:VEVENT
END:VCALENDAR