BEGIN:VCALENDAR
VERSION:2.0
PRODID:-//KRTN Enchanted Air Radio - ECPv5.16.4.1//NONSGML v1.0//EN
CALSCALE:GREGORIAN
METHOD:PUBLISH
X-WR-CALNAME:KRTN Enchanted Air Radio
X-ORIGINAL-URL:https://krtnradio.com/wp
X-WR-CALDESC:Events for KRTN Enchanted Air Radio
BEGIN:VTIMEZONE
TZID:America/Denver
BEGIN:DAYLIGHT
TZOFFSETFROM:-0700
TZOFFSETTO:-0600
TZNAME:MDT
DTSTART:20240310T090000
END:DAYLIGHT
BEGIN:STANDARD
TZOFFSETFROM:-0600
TZOFFSETTO:-0700
TZNAME:MST
DTSTART:20241103T080000
END:STANDARD
END:VTIMEZONE
BEGIN:VEVENT
DTSTART;TZID=America/Denver:20240906T190000
DTEND;TZID=America/Denver:20240906T190000
DTSTAMP:20260423T080902
CREATED:20240829T194308Z
LAST-MODIFIED:20240829T194308Z
UID:91789-1725649200-1725649200@krtnradio.com
SUMMARY:Raton Tigers V Trinidad Miners
DESCRIPTION:@Trinidad High School
URL:https://krtnradio.com/wp/event/raton-tigers-v-trinidad-miners/
CATEGORIES:Sports Events
ATTACH;FMTTYPE=image/jpeg:https://krtnradio.com/wp/wp-content/uploads/2024/08/456508580_1049970980247802_2330808085991588146_n.jpg
END:VEVENT
END:VCALENDAR