BEGIN:VCALENDAR
VERSION:2.0
PRODID:-//KRTN Enchanted Air Radio - ECPv5.16.4.1//NONSGML v1.0//EN
CALSCALE:GREGORIAN
METHOD:PUBLISH
X-WR-CALNAME:KRTN Enchanted Air Radio
X-ORIGINAL-URL:https://krtnradio.com/wp
X-WR-CALDESC:Events for KRTN Enchanted Air Radio
BEGIN:VTIMEZONE
TZID:America/Denver
BEGIN:DAYLIGHT
TZOFFSETFROM:-0700
TZOFFSETTO:-0600
TZNAME:MDT
DTSTART:20240310T090000
END:DAYLIGHT
BEGIN:STANDARD
TZOFFSETFROM:-0600
TZOFFSETTO:-0700
TZNAME:MST
DTSTART:20241103T080000
END:STANDARD
END:VTIMEZONE
BEGIN:VEVENT
DTSTART;TZID=America/Denver:20240403T160000
DTEND;TZID=America/Denver:20240403T160000
DTSTAMP:20260424T003441
CREATED:20240403T191142Z
LAST-MODIFIED:20240403T191142Z
UID:89761-1712160000-1712160000@krtnradio.com
SUMMARY:Raton Tigers High School Softball 2024 Robertson In Las Vegas JV2
DESCRIPTION:
URL:https://krtnradio.com/wp/event/raton-tigers-high-school-softball-2024-robertson-in-las-vegas-jv2/
CATEGORIES:Area Events
ATTACH;FMTTYPE=image/jpeg:https://krtnradio.com/wp/wp-content/uploads/2022/08/Raton-Tigers-1.jpg
END:VEVENT
END:VCALENDAR