BEGIN:VCALENDAR
VERSION:2.0
PRODID:-//KRTN Enchanted Air Radio - ECPv5.16.4.1//NONSGML v1.0//EN
CALSCALE:GREGORIAN
METHOD:PUBLISH
X-WR-CALNAME:KRTN Enchanted Air Radio
X-ORIGINAL-URL:https://krtnradio.com/wp
X-WR-CALDESC:Events for KRTN Enchanted Air Radio
BEGIN:VTIMEZONE
TZID:America/Denver
BEGIN:DAYLIGHT
TZOFFSETFROM:-0700
TZOFFSETTO:-0600
TZNAME:MDT
DTSTART:20230312T090000
END:DAYLIGHT
BEGIN:STANDARD
TZOFFSETFROM:-0600
TZOFFSETTO:-0700
TZNAME:MST
DTSTART:20231105T080000
END:STANDARD
END:VTIMEZONE
BEGIN:VEVENT
DTSTART;TZID=America/Denver:20230909T160000
DTEND;TZID=America/Denver:20230909T220000
DTSTAMP:20260425T184126
CREATED:20230818T233532Z
LAST-MODIFIED:20230818T234030Z
UID:85734-1694275200-1694296800@krtnradio.com
SUMMARY:RATON SUPERCROSS CHAMPIONSHIP RACE - Saturday\, Sept. 9
DESCRIPTION:Colfax County Event Center & Rodeo Grounds on Hiway 555 \nTickets: Ages 13 and up $25 ONLINE/ $30 @ Gate…. \n  \nAges 6-12 $15 ONLINE / $20 @ Gate…. \n  \nAges 5 and under   FREE \nPurchase tickets online @ www.ratonsupercross.com
URL:https://krtnradio.com/wp/event/raton-supercross-championship-race-saturday-sept-9/
CATEGORIES:Sports Events
END:VEVENT
END:VCALENDAR