BEGIN:VCALENDAR
VERSION:2.0
PRODID:-//KRTN Enchanted Air Radio - ECPv5.16.4.1//NONSGML v1.0//EN
CALSCALE:GREGORIAN
METHOD:PUBLISH
X-WR-CALNAME:KRTN Enchanted Air Radio
X-ORIGINAL-URL:https://krtnradio.com/wp
X-WR-CALDESC:Events for KRTN Enchanted Air Radio
BEGIN:VTIMEZONE
TZID:America/Denver
BEGIN:DAYLIGHT
TZOFFSETFROM:-0700
TZOFFSETTO:-0600
TZNAME:MDT
DTSTART:20240310T090000
END:DAYLIGHT
BEGIN:STANDARD
TZOFFSETFROM:-0600
TZOFFSETTO:-0700
TZNAME:MST
DTSTART:20241103T080000
END:STANDARD
END:VTIMEZONE
BEGIN:VEVENT
DTSTART;TZID=America/Denver:20240914T160000
DTEND;TZID=America/Denver:20240914T160000
DTSTAMP:20260423T080643
CREATED:20240829T193926Z
LAST-MODIFIED:20240829T193926Z
UID:91786-1726329600-1726329600@krtnradio.com
SUMMARY:Raton Supercross 2024
DESCRIPTION:Join us for Raton Supercross 2024 at the Colfax County Events Center on HWY 555 on Saturday\, Sept. 14\, 2024. Gates open at 4 p.m. and racers hit the track at 5 p.m.\nTICKET COST$15 Kids (Ages 6-11)$20 Adults (Ages 12+)Kids 5 and under FREE\n PURCHASE TICKETS at RatonSupercross.com
URL:https://krtnradio.com/wp/event/raton-supercross-2024/
CATEGORIES:Area Events
ATTACH;FMTTYPE=image/jpeg:https://krtnradio.com/wp/wp-content/uploads/2024/08/455052154_904289295051436_484878505492928860_n.jpg
END:VEVENT
END:VCALENDAR