BEGIN:VCALENDAR
VERSION:2.0
PRODID:-//KRTN Enchanted Air Radio - ECPv5.16.4.1//NONSGML v1.0//EN
CALSCALE:GREGORIAN
METHOD:PUBLISH
X-WR-CALNAME:KRTN Enchanted Air Radio
X-ORIGINAL-URL:https://krtnradio.com/wp
X-WR-CALDESC:Events for KRTN Enchanted Air Radio
BEGIN:VTIMEZONE
TZID:America/Denver
BEGIN:DAYLIGHT
TZOFFSETFROM:-0700
TZOFFSETTO:-0600
TZNAME:MDT
DTSTART:20260308T090000
END:DAYLIGHT
BEGIN:STANDARD
TZOFFSETFROM:-0600
TZOFFSETTO:-0700
TZNAME:MST
DTSTART:20261101T080000
END:STANDARD
END:VTIMEZONE
BEGIN:VEVENT
DTSTART;TZID=America/Denver:20260428T120000
DTEND;TZID=America/Denver:20260428T130000
DTSTAMP:20260423T023854
CREATED:20260403T191736Z
LAST-MODIFIED:20260403T191736Z
UID:100244-1777377600-1777381200@krtnradio.com
SUMMARY:Raton Rotary April 2026 Program Schedule- Mystery Guest Speaker
DESCRIPTION:
URL:https://krtnradio.com/wp/event/raton-rotary-april-2026-program-schedule-mystery-guest-speaker/
CATEGORIES:Area Events
END:VEVENT
END:VCALENDAR