BEGIN:VCALENDAR
VERSION:2.0
PRODID:-//KRTN Enchanted Air Radio - ECPv5.16.4.1//NONSGML v1.0//EN
CALSCALE:GREGORIAN
METHOD:PUBLISH
X-WR-CALNAME:KRTN Enchanted Air Radio
X-ORIGINAL-URL:https://krtnradio.com/wp
X-WR-CALDESC:Events for KRTN Enchanted Air Radio
BEGIN:VTIMEZONE
TZID:America/Denver
BEGIN:DAYLIGHT
TZOFFSETFROM:-0700
TZOFFSETTO:-0600
TZNAME:MDT
DTSTART:20200308T090000
END:DAYLIGHT
BEGIN:STANDARD
TZOFFSETFROM:-0600
TZOFFSETTO:-0700
TZNAME:MST
DTSTART:20201101T080000
END:STANDARD
END:VTIMEZONE
BEGIN:VEVENT
DTSTART;TZID=America/Denver:20200608T060000
DTEND;TZID=America/Denver:20200608T193000
DTSTAMP:20260425T161816
CREATED:20200602T175909Z
LAST-MODIFIED:20200602T175909Z
UID:63341-1591596000-1591644600@krtnradio.com
SUMMARY:Raton Regional Aquatic Center soft reopening due to COVID-19
DESCRIPTION:The Raton Regional Aquatic Center is scheduled to reopen starting on Monday\, June 8th for lap swim and adult exercise only. \nNo open swim yet. \nOur lap swim hours will be the same as before: Monday-Friday 6-10:30 am & 5:30-7:30 pm. \nWe are NOT taking reservations for parties at this time.
URL:https://krtnradio.com/wp/event/raton-regional-aquatic-center-soft-reopening-due-to-covid-19/
LOCATION:Raton Regional Aquatic Center\, Raton  \, NM\, United States
CATEGORIES:Area Events
ATTACH;FMTTYPE=image/png:https://krtnradio.com/wp/wp-content/uploads/2018/09/AdultSwim.png
END:VEVENT
END:VCALENDAR