BEGIN:VCALENDAR
VERSION:2.0
PRODID:-//KRTN Enchanted Air Radio - ECPv5.16.4.1//NONSGML v1.0//EN
CALSCALE:GREGORIAN
METHOD:PUBLISH
X-WR-CALNAME:KRTN Enchanted Air Radio
X-ORIGINAL-URL:https://krtnradio.com/wp
X-WR-CALDESC:Events for KRTN Enchanted Air Radio
BEGIN:VTIMEZONE
TZID:America/Denver
BEGIN:DAYLIGHT
TZOFFSETFROM:-0700
TZOFFSETTO:-0600
TZNAME:MDT
DTSTART:20200308T090000
END:DAYLIGHT
BEGIN:STANDARD
TZOFFSETFROM:-0600
TZOFFSETTO:-0700
TZNAME:MST
DTSTART:20201101T080000
END:STANDARD
END:VTIMEZONE
BEGIN:VEVENT
DTSTART;TZID=America/Denver:20200715T180000
DTEND;TZID=America/Denver:20200715T193000
DTSTAMP:20260425T061554
CREATED:20200713T200109Z
LAST-MODIFIED:20200714T143224Z
UID:64559-1594836000-1594841400@krtnradio.com
SUMMARY:RATON PUBLIC MEETING
DESCRIPTION:THANK YOU TO EVERYONE FOR SHARING YOUR VIEWS ON THE FUTURE OF RATON THROUGH THE COMMUNITY SURVEY AND/OR THE PUBLIC MEETING ON MARCH 3RD.  WE WILL BE HOLDING A SECOND PUBLIC MEETING THROUGH A USER-FRIENDLY ONLINE FORUM TO RECEIVE YOUR INPUT.  THE MEETING WILL BE FACILITATED BY THE CITY’S CONSULTANT\, CONSENSUS PLANNING.\, AND WILL INCLUDE: \n-PRESENTATION ON THE PLANNING PROCESS \n-COMMUNITY SURVEY RESULTS \n-DRAFT GOALS AND OBJECTIVES \n-ALTERNATIVE LAND USE SCENARIOS OF HOW RATON MAY GROW IN THE NEXT 20 YEARS \nTHE COMPREHENSIVE PLAN ADDRESSES ALL ASPECTS OF THE COMMUNITY\, INCLUDING LAND USE\, COMMUNITY CHARACTER\, ECONOMIC DEVELOPMENT\, HOUSING\, AND NEIGHBORHOODS\, PUBLIC SERVICES AND FACILITIES\, TRANSPORTATION\, INFRASTRUCTURE\, HAZARD MITIGATION\, AND MORE. \nIN ORDER TO PARTICIPATE IN THE MEETING\, PARTICIPANTS MUST REGISTER FIRST AT: \nhttps://attendee.gotowebinar.com/register/5356494503253787915 \nTHE MEETING IS OPEN TO THE ENTIRE RATON COMMUNITY\, SO PLEASE FORWARD THE LINK TO OTHERS THAT MAY BE INTERESTED IN ATTENDING.  THE PUBLIC MEETING WILL INCLUDE A FOLLOW-UP SURVEY.  A LINK WILL BE PROVIDED AT THE MEETING.  DRAFT MATERIALS ARE ALSO POSTED ON THE PROJECT WEDSITE AT: \nhttps://ratonplan.wordpress.com/ \nFOR MORE INFORMATION\, PLEASE CONTACT: \n-SCOTT BERRY\, CITY MANAGER AT 575-445-9551 sberry@cityofraton.com \n-JACKIE FISHMAN\, PRINCIPAL WITH CONSENSUS PLANNING AT 505-764-9801  fishman@consensusplanning.com \nWE LOOK FORWARD TO MEETING WITH YOU ALL AS WE CONTINUE THE RATON COMPREHENSIVE PLANNING PROCESS! \nCHARLENE JOHNSON\, PLANNER\, CONSENSUS PLANNING INC. \n302 EIGHTH STREET NW\,  505-764-9801\,  johnson@consensusplanning.com \n  \n  \n 
URL:https://krtnradio.com/wp/event/raton-public-meeting/
CATEGORIES:Meetings
ATTACH;FMTTYPE=image/jpeg:https://krtnradio.com/wp/wp-content/uploads/2018/06/Friday-Media-Day-6-29-18-6821.jpg
END:VEVENT
END:VCALENDAR