BEGIN:VCALENDAR
VERSION:2.0
PRODID:-//KRTN Enchanted Air Radio - ECPv5.16.4.1//NONSGML v1.0//EN
CALSCALE:GREGORIAN
METHOD:PUBLISH
X-WR-CALNAME:KRTN Enchanted Air Radio
X-ORIGINAL-URL:https://krtnradio.com/wp
X-WR-CALDESC:Events for KRTN Enchanted Air Radio
BEGIN:VTIMEZONE
TZID:America/Denver
BEGIN:DAYLIGHT
TZOFFSETFROM:-0700
TZOFFSETTO:-0600
TZNAME:MDT
DTSTART:20250309T090000
END:DAYLIGHT
BEGIN:STANDARD
TZOFFSETFROM:-0600
TZOFFSETTO:-0700
TZNAME:MST
DTSTART:20251102T080000
END:STANDARD
END:VTIMEZONE
BEGIN:VEVENT
DTSTART;TZID=America/Denver:20250426T150000
DTEND;TZID=America/Denver:20250426T160000
DTSTAMP:20260424T064915
CREATED:20250319T170226Z
LAST-MODIFIED:20250319T170226Z
UID:94777-1745679600-1745683200@krtnradio.com
SUMMARY:Raton Pokemon Club
DESCRIPTION:
URL:https://krtnradio.com/wp/event/raton-pokemon-club-3/
END:VEVENT
END:VCALENDAR