BEGIN:VCALENDAR
VERSION:2.0
PRODID:-//KRTN Enchanted Air Radio - ECPv5.16.4.1//NONSGML v1.0//EN
CALSCALE:GREGORIAN
METHOD:PUBLISH
X-WR-CALNAME:KRTN Enchanted Air Radio
X-ORIGINAL-URL:https://krtnradio.com/wp
X-WR-CALDESC:Events for KRTN Enchanted Air Radio
BEGIN:VTIMEZONE
TZID:America/Denver
BEGIN:DAYLIGHT
TZOFFSETFROM:-0700
TZOFFSETTO:-0600
TZNAME:MDT
DTSTART:20200308T090000
END:DAYLIGHT
BEGIN:STANDARD
TZOFFSETFROM:-0600
TZOFFSETTO:-0700
TZNAME:MST
DTSTART:20201101T080000
END:STANDARD
END:VTIMEZONE
BEGIN:VEVENT
DTSTART;TZID=America/Denver:20200724T100000
DTEND;TZID=America/Denver:20200724T100000
DTSTAMP:20260425T042903
CREATED:20200123T184119Z
LAST-MODIFIED:20200724T145817Z
UID:59134-1595584800-1595584800@krtnradio.com
SUMMARY:Raton Ministerial Alliance Food Distribution
DESCRIPTION:Until supplies are gone\, everyone is welcome. \n@ Old City Market Building \nSTARTS AT 10 AM AS THEY UNLOAD A SURPRISE FOOD TRUCK WITH PERISHABLES TO DISTRIBUTE THIS MORNING ALONG WITH THE NORMAL DISTRIBUTION.
URL:https://krtnradio.com/wp/event/raton-ministerial-alliance-food-distribution-19/
LOCATION:City Market building\, 907 S. 2nd Street\, Raton\, NM\, 87740\, United States
CATEGORIES:Meetings
ATTACH;FMTTYPE=image/jpeg:https://krtnradio.com/wp/wp-content/uploads/2018/08/foodministry.jpg
END:VEVENT
END:VCALENDAR