BEGIN:VCALENDAR
VERSION:2.0
PRODID:-//KRTN Enchanted Air Radio - ECPv5.16.4.1//NONSGML v1.0//EN
CALSCALE:GREGORIAN
METHOD:PUBLISH
X-WR-CALNAME:KRTN Enchanted Air Radio
X-ORIGINAL-URL:https://krtnradio.com/wp
X-WR-CALDESC:Events for KRTN Enchanted Air Radio
BEGIN:VTIMEZONE
TZID:America/Denver
BEGIN:DAYLIGHT
TZOFFSETFROM:-0700
TZOFFSETTO:-0600
TZNAME:MDT
DTSTART:20200308T090000
END:DAYLIGHT
BEGIN:STANDARD
TZOFFSETFROM:-0600
TZOFFSETTO:-0700
TZNAME:MST
DTSTART:20201101T080000
END:STANDARD
END:VTIMEZONE
BEGIN:VEVENT
DTSTART;TZID=America/Denver:20200320T180000
DTEND;TZID=America/Denver:20200320T180000
DTSTAMP:20260425T201142
CREATED:20200221T202852Z
LAST-MODIFIED:20200221T202852Z
UID:60340-1584727200-1584727200@krtnradio.com
SUMMARY:Raton Little League Coaches Meeting
DESCRIPTION:Anyone who is interested in coaching or helping the little league this year is encouraged to attend. We have opening ceremonies set for April 25\, 2020.
URL:https://krtnradio.com/wp/event/raton-little-league-coaches-meeting/
LOCATION:Raton Convention Center\, 901 S 3rd\, Raton\, NM\, 87740\, United States
CATEGORIES:Meetings
ATTACH;FMTTYPE=image/jpeg:https://krtnradio.com/wp/wp-content/uploads/2019/04/29744504_822444404610652_2679963004155857211_o.jpg
END:VEVENT
END:VCALENDAR