BEGIN:VCALENDAR
VERSION:2.0
PRODID:-//KRTN Enchanted Air Radio - ECPv5.16.4.1//NONSGML v1.0//EN
CALSCALE:GREGORIAN
METHOD:PUBLISH
X-WR-CALNAME:KRTN Enchanted Air Radio
X-ORIGINAL-URL:https://krtnradio.com/wp
X-WR-CALDESC:Events for KRTN Enchanted Air Radio
BEGIN:VTIMEZONE
TZID:America/Denver
BEGIN:DAYLIGHT
TZOFFSETFROM:-0700
TZOFFSETTO:-0600
TZNAME:MDT
DTSTART:20250309T090000
END:DAYLIGHT
BEGIN:STANDARD
TZOFFSETFROM:-0600
TZOFFSETTO:-0700
TZNAME:MST
DTSTART:20251102T080000
END:STANDARD
END:VTIMEZONE
BEGIN:VEVENT
DTSTART;VALUE=DATE:20250528
DTEND;VALUE=DATE:20250529
DTSTAMP:20260424T051353
CREATED:20250428T194219Z
LAST-MODIFIED:20250428T194219Z
UID:95488-1748390400-1748476799@krtnradio.com
SUMMARY:Raton Kiwanis Club & Friends of Sugarite Canyon  Annual Fish Derby
DESCRIPTION:
URL:https://krtnradio.com/wp/event/raton-kiwanis-club-friends-of-sugarite-canyon-annual-fish-derby-8/
CATEGORIES:Area Events
END:VEVENT
END:VCALENDAR