BEGIN:VCALENDAR
VERSION:2.0
PRODID:-//KRTN Enchanted Air Radio - ECPv5.16.4.1//NONSGML v1.0//EN
CALSCALE:GREGORIAN
METHOD:PUBLISH
X-WR-CALNAME:KRTN Enchanted Air Radio
X-ORIGINAL-URL:https://krtnradio.com/wp
X-WR-CALDESC:Events for KRTN Enchanted Air Radio
BEGIN:VTIMEZONE
TZID:America/Denver
BEGIN:DAYLIGHT
TZOFFSETFROM:-0700
TZOFFSETTO:-0600
TZNAME:MDT
DTSTART:20200308T090000
END:DAYLIGHT
BEGIN:STANDARD
TZOFFSETFROM:-0600
TZOFFSETTO:-0700
TZNAME:MST
DTSTART:20201101T080000
END:STANDARD
END:VTIMEZONE
BEGIN:VEVENT
DTSTART;TZID=America/Denver:20200721T120000
DTEND;TZID=America/Denver:20200721T140000
DTSTAMP:20260425T042843
CREATED:20200717T211639Z
LAST-MODIFIED:20200717T212005Z
UID:64737-1595332800-1595340000@krtnradio.com
SUMMARY:Raton Housing Authority Meeting
DESCRIPTION:The regular meeting of the Raton Housing Authority Board of Commissioners will be held on Tuesday\, July 21\, at 12:00 noon.   The Raton Housing Authority meeting will be held at 309 Parsons Ave. in Raton.  This is a telephone held meeting.  To listen\, call 1-575-278-9999.  Enter participant code: 289271.  An agenda may be obtained at the Raton Housing Authority office.
URL:https://krtnradio.com/wp/event/raton-housing-authority-meeting/
CATEGORIES:Meetings
ATTACH;FMTTYPE=image/jpeg:https://krtnradio.com/wp/wp-content/uploads/2014/10/Raton-Housing-Authority.jpg
END:VEVENT
END:VCALENDAR